BEGIN:VCALENDAR
VERSION:2.0
PRODID:-//BROADWAY UNITED REFORMED CHURCH - ECPv6.15.18//NONSGML v1.0//EN
CALSCALE:GREGORIAN
METHOD:PUBLISH
X-ORIGINAL-URL:https://broadwayurc-worcs.org.uk
X-WR-CALDESC:Events for BROADWAY UNITED REFORMED CHURCH
REFRESH-INTERVAL;VALUE=DURATION:PT1H
X-Robots-Tag:noindex
X-PUBLISHED-TTL:PT1H
BEGIN:VTIMEZONE
TZID:Europe/London
BEGIN:DAYLIGHT
TZOFFSETFROM:+0000
TZOFFSETTO:+0100
TZNAME:BST
DTSTART:20230326T010000
END:DAYLIGHT
BEGIN:STANDARD
TZOFFSETFROM:+0100
TZOFFSETTO:+0000
TZNAME:GMT
DTSTART:20231029T010000
END:STANDARD
BEGIN:DAYLIGHT
TZOFFSETFROM:+0000
TZOFFSETTO:+0100
TZNAME:BST
DTSTART:20240331T010000
END:DAYLIGHT
BEGIN:STANDARD
TZOFFSETFROM:+0100
TZOFFSETTO:+0000
TZNAME:GMT
DTSTART:20241027T010000
END:STANDARD
BEGIN:DAYLIGHT
TZOFFSETFROM:+0000
TZOFFSETTO:+0100
TZNAME:BST
DTSTART:20250330T010000
END:DAYLIGHT
BEGIN:STANDARD
TZOFFSETFROM:+0100
TZOFFSETTO:+0000
TZNAME:GMT
DTSTART:20251026T010000
END:STANDARD
END:VTIMEZONE
BEGIN:VEVENT
DTSTART;TZID=Europe/London:20240602T103000
DTEND;TZID=Europe/London:20240602T120000
DTSTAMP:20260426T052951
CREATED:20240520T193701Z
LAST-MODIFIED:20240520T193701Z
UID:6985-1717324200-1717329600@broadwayurc-worcs.org.uk
SUMMARY:Sunday Service with Revd Brian Clarke
DESCRIPTION:
URL:https://broadwayurc-worcs.org.uk/event/sunday-service-with-revd-brian-clarke-2/
LOCATION:Broadway URC\, 77 High Street\, Broadway\, WR12 7AL\, United Kingdom
CATEGORIES:Sunday Service
END:VEVENT
BEGIN:VEVENT
DTSTART;TZID=Europe/London:20240609T103000
DTEND;TZID=Europe/London:20240609T120000
DTSTAMP:20260426T052951
CREATED:20240520T193850Z
LAST-MODIFIED:20240520T204614Z
UID:6987-1717929000-1717934400@broadwayurc-worcs.org.uk
SUMMARY:Sunday Service Inc Holy Communion with Methodist Revd Henry Lewis
DESCRIPTION:
URL:https://broadwayurc-worcs.org.uk/event/sunday-service-4/
LOCATION:Broadway URC\, 77 High Street\, Broadway\, WR12 7AL\, United Kingdom
CATEGORIES:Sunday Service
END:VEVENT
BEGIN:VEVENT
DTSTART;TZID=Europe/London:20240616T103000
DTEND;TZID=Europe/London:20240616T120000
DTSTAMP:20260426T052951
CREATED:20240520T193945Z
LAST-MODIFIED:20240520T193945Z
UID:6989-1718533800-1718539200@broadwayurc-worcs.org.uk
SUMMARY:Sunday Service with Revd Colin Hollies
DESCRIPTION:
URL:https://broadwayurc-worcs.org.uk/event/sunday-service-with-revd-colin-hollies-2/
LOCATION:Broadway URC\, 77 High Street\, Broadway\, WR12 7AL\, United Kingdom
CATEGORIES:Sunday Service
END:VEVENT
BEGIN:VEVENT
DTSTART;TZID=Europe/London:20240623T103000
DTEND;TZID=Europe/London:20240623T120000
DTSTAMP:20260426T052951
CREATED:20240520T194043Z
LAST-MODIFIED:20240520T194043Z
UID:6991-1719138600-1719144000@broadwayurc-worcs.org.uk
SUMMARY:Sunday Service led by The Worship Group
DESCRIPTION:
URL:https://broadwayurc-worcs.org.uk/event/sunday-service-led-by-the-worship-group-3/
LOCATION:Broadway URC\, 77 High Street\, Broadway\, WR12 7AL\, United Kingdom
CATEGORIES:Sunday Service
END:VEVENT
BEGIN:VEVENT
DTSTART;TZID=Europe/London:20240630T103000
DTEND;TZID=Europe/London:20240630T120000
DTSTAMP:20260426T052951
CREATED:20240520T194131Z
LAST-MODIFIED:20240520T194131Z
UID:6993-1719743400-1719748800@broadwayurc-worcs.org.uk
SUMMARY:Sunday Service with Revd Iain McLaren
DESCRIPTION:
URL:https://broadwayurc-worcs.org.uk/event/sunday-service-with-revd-iain-mclaren-2/
LOCATION:Broadway URC\, 77 High Street\, Broadway\, WR12 7AL\, United Kingdom
CATEGORIES:Sunday Service
END:VEVENT
END:VCALENDAR