BEGIN:VCALENDAR
VERSION:2.0
PRODID:-//BROADWAY UNITED REFORMED CHURCH - ECPv6.15.18//NONSGML v1.0//EN
CALSCALE:GREGORIAN
METHOD:PUBLISH
X-ORIGINAL-URL:https://broadwayurc-worcs.org.uk
X-WR-CALDESC:Events for BROADWAY UNITED REFORMED CHURCH
REFRESH-INTERVAL;VALUE=DURATION:PT1H
X-Robots-Tag:noindex
X-PUBLISHED-TTL:PT1H
BEGIN:VTIMEZONE
TZID:Europe/London
BEGIN:DAYLIGHT
TZOFFSETFROM:+0000
TZOFFSETTO:+0100
TZNAME:BST
DTSTART:20230326T010000
END:DAYLIGHT
BEGIN:STANDARD
TZOFFSETFROM:+0100
TZOFFSETTO:+0000
TZNAME:GMT
DTSTART:20231029T010000
END:STANDARD
BEGIN:DAYLIGHT
TZOFFSETFROM:+0000
TZOFFSETTO:+0100
TZNAME:BST
DTSTART:20240331T010000
END:DAYLIGHT
BEGIN:STANDARD
TZOFFSETFROM:+0100
TZOFFSETTO:+0000
TZNAME:GMT
DTSTART:20241027T010000
END:STANDARD
BEGIN:DAYLIGHT
TZOFFSETFROM:+0000
TZOFFSETTO:+0100
TZNAME:BST
DTSTART:20250330T010000
END:DAYLIGHT
BEGIN:STANDARD
TZOFFSETFROM:+0100
TZOFFSETTO:+0000
TZNAME:GMT
DTSTART:20251026T010000
END:STANDARD
END:VTIMEZONE
BEGIN:VEVENT
DTSTART;TZID=Europe/London:20240707T103000
DTEND;TZID=Europe/London:20240707T120000
DTSTAMP:20260426T040301
CREATED:20240520T194221Z
LAST-MODIFIED:20240520T194221Z
UID:6995-1720348200-1720353600@broadwayurc-worcs.org.uk
SUMMARY:Sunday Service with Revd Kathryn Louch
DESCRIPTION:
URL:https://broadwayurc-worcs.org.uk/event/sunday-service-with-revd-kathryn-louch-2/
LOCATION:Broadway URC\, 77 High Street\, Broadway\, WR12 7AL\, United Kingdom
CATEGORIES:Sunday Service
END:VEVENT
BEGIN:VEVENT
DTSTART;TZID=Europe/London:20240721T103000
DTEND;TZID=Europe/London:20240721T120000
DTSTAMP:20260426T040301
CREATED:20240520T194429Z
LAST-MODIFIED:20240520T194429Z
UID:6999-1721557800-1721563200@broadwayurc-worcs.org.uk
SUMMARY:Sunday Service with Revd Iain McLaren
DESCRIPTION:
URL:https://broadwayurc-worcs.org.uk/event/sunday-service-with-revd-iain-mclaren-3/
LOCATION:Broadway URC\, 77 High Street\, Broadway\, WR12 7AL\, United Kingdom
CATEGORIES:Sunday Service
END:VEVENT
BEGIN:VEVENT
DTSTART;TZID=Europe/London:20240728T103000
DTEND;TZID=Europe/London:20240728T120000
DTSTAMP:20260426T040301
CREATED:20240520T194512Z
LAST-MODIFIED:20240520T194512Z
UID:7001-1722162600-1722168000@broadwayurc-worcs.org.uk
SUMMARY:Sunday Service
DESCRIPTION:
URL:https://broadwayurc-worcs.org.uk/event/sunday-service-6/
LOCATION:Broadway URC\, 77 High Street\, Broadway\, WR12 7AL\, United Kingdom
CATEGORIES:Sunday Service
END:VEVENT
END:VCALENDAR