BEGIN:VCALENDAR
VERSION:2.0
PRODID:-//BROADWAY UNITED REFORMED CHURCH - ECPv6.15.18//NONSGML v1.0//EN
CALSCALE:GREGORIAN
METHOD:PUBLISH
X-WR-CALNAME:BROADWAY UNITED REFORMED CHURCH
X-ORIGINAL-URL:https://broadwayurc-worcs.org.uk
X-WR-CALDESC:Events for BROADWAY UNITED REFORMED CHURCH
REFRESH-INTERVAL;VALUE=DURATION:PT1H
X-Robots-Tag:noindex
X-PUBLISHED-TTL:PT1H
BEGIN:VTIMEZONE
TZID:Europe/London
BEGIN:DAYLIGHT
TZOFFSETFROM:+0000
TZOFFSETTO:+0100
TZNAME:BST
DTSTART:20230326T010000
END:DAYLIGHT
BEGIN:STANDARD
TZOFFSETFROM:+0100
TZOFFSETTO:+0000
TZNAME:GMT
DTSTART:20231029T010000
END:STANDARD
BEGIN:DAYLIGHT
TZOFFSETFROM:+0000
TZOFFSETTO:+0100
TZNAME:BST
DTSTART:20240331T010000
END:DAYLIGHT
BEGIN:STANDARD
TZOFFSETFROM:+0100
TZOFFSETTO:+0000
TZNAME:GMT
DTSTART:20241027T010000
END:STANDARD
BEGIN:DAYLIGHT
TZOFFSETFROM:+0000
TZOFFSETTO:+0100
TZNAME:BST
DTSTART:20250330T010000
END:DAYLIGHT
BEGIN:STANDARD
TZOFFSETFROM:+0100
TZOFFSETTO:+0000
TZNAME:GMT
DTSTART:20251026T010000
END:STANDARD
END:VTIMEZONE
BEGIN:VEVENT
DTSTART;TZID=Europe/London:20240804T103000
DTEND;TZID=Europe/London:20240804T120000
DTSTAMP:20260423T002102
CREATED:20240520T194559Z
LAST-MODIFIED:20240520T194937Z
UID:7003-1722767400-1722772800@broadwayurc-worcs.org.uk
SUMMARY:Sunday Service with Revd Kathryn Louch
DESCRIPTION:
URL:https://broadwayurc-worcs.org.uk/event/sunday-service-with-revd-kathryn-louch-3/
LOCATION:Broadway URC\, 77 High Street\, Broadway\, WR12 7AL\, United Kingdom
CATEGORIES:Sunday Service
END:VEVENT
BEGIN:VEVENT
DTSTART;TZID=Europe/London:20240811T103000
DTEND;TZID=Europe/London:20240811T120000
DTSTAMP:20260423T002102
CREATED:20240520T194656Z
LAST-MODIFIED:20240520T194656Z
UID:7005-1723372200-1723377600@broadwayurc-worcs.org.uk
SUMMARY:Sunday Service with Michael Payne
DESCRIPTION:
URL:https://broadwayurc-worcs.org.uk/event/sunday-service-with-michael-payne/
LOCATION:Broadway URC\, 77 High Street\, Broadway\, WR12 7AL\, United Kingdom
CATEGORIES:Sunday Service
END:VEVENT
BEGIN:VEVENT
DTSTART;TZID=Europe/London:20240818T103000
DTEND;TZID=Europe/London:20240818T120000
DTSTAMP:20260423T002102
CREATED:20240520T194751Z
LAST-MODIFIED:20240520T194751Z
UID:7007-1723977000-1723982400@broadwayurc-worcs.org.uk
SUMMARY:Sunday Service with Revd Iain McLaren
DESCRIPTION:
URL:https://broadwayurc-worcs.org.uk/event/sunday-service-with-revd-iain-mclaren-4/
LOCATION:Broadway URC\, 77 High Street\, Broadway\, WR12 7AL\, United Kingdom
CATEGORIES:Sunday Service
END:VEVENT
BEGIN:VEVENT
DTSTART;TZID=Europe/London:20240825T103000
DTEND;TZID=Europe/London:20240825T120000
DTSTAMP:20260423T002102
CREATED:20240520T194825Z
LAST-MODIFIED:20240520T204340Z
UID:7009-1724581800-1724587200@broadwayurc-worcs.org.uk
SUMMARY:Sunday Service with Methodist Michael Hardstaffe
DESCRIPTION:
URL:https://broadwayurc-worcs.org.uk/event/sunday-service-7/
LOCATION:Broadway URC\, 77 High Street\, Broadway\, WR12 7AL\, United Kingdom
CATEGORIES:Sunday Service
END:VEVENT
END:VCALENDAR