BEGIN:VCALENDAR
VERSION:2.0
PRODID:-//BROADWAY UNITED REFORMED CHURCH - ECPv6.15.18//NONSGML v1.0//EN
CALSCALE:GREGORIAN
METHOD:PUBLISH
X-WR-CALNAME:BROADWAY UNITED REFORMED CHURCH
X-ORIGINAL-URL:https://broadwayurc-worcs.org.uk
X-WR-CALDESC:Events for BROADWAY UNITED REFORMED CHURCH
REFRESH-INTERVAL;VALUE=DURATION:PT1H
X-Robots-Tag:noindex
X-PUBLISHED-TTL:PT1H
BEGIN:VTIMEZONE
TZID:Europe/London
BEGIN:DAYLIGHT
TZOFFSETFROM:+0000
TZOFFSETTO:+0100
TZNAME:BST
DTSTART:20230326T010000
END:DAYLIGHT
BEGIN:STANDARD
TZOFFSETFROM:+0100
TZOFFSETTO:+0000
TZNAME:GMT
DTSTART:20231029T010000
END:STANDARD
BEGIN:DAYLIGHT
TZOFFSETFROM:+0000
TZOFFSETTO:+0100
TZNAME:BST
DTSTART:20240331T010000
END:DAYLIGHT
BEGIN:STANDARD
TZOFFSETFROM:+0100
TZOFFSETTO:+0000
TZNAME:GMT
DTSTART:20241027T010000
END:STANDARD
BEGIN:DAYLIGHT
TZOFFSETFROM:+0000
TZOFFSETTO:+0100
TZNAME:BST
DTSTART:20250330T010000
END:DAYLIGHT
BEGIN:STANDARD
TZOFFSETFROM:+0100
TZOFFSETTO:+0000
TZNAME:GMT
DTSTART:20251026T010000
END:STANDARD
END:VTIMEZONE
BEGIN:VEVENT
DTSTART;TZID=Europe/London:20241103T103000
DTEND;TZID=Europe/London:20241103T120000
DTSTAMP:20260420T104512
CREATED:20240930T230503Z
LAST-MODIFIED:20240930T230503Z
UID:7135-1730629800-1730635200@broadwayurc-worcs.org.uk
SUMMARY:Sunday Service with Revd Iain McLaren
DESCRIPTION:
URL:https://broadwayurc-worcs.org.uk/event/sunday-service-with-revd-iain-mclaren-6/
LOCATION:Broadway URC\, 77 High Street\, Broadway\, WR12 7AL\, United Kingdom
CATEGORIES:Sunday Service
END:VEVENT
BEGIN:VEVENT
DTSTART;TZID=Europe/London:20241103T170000
DTEND;TZID=Europe/London:20241103T180000
DTSTAMP:20260420T104512
CREATED:20241029T190217Z
LAST-MODIFIED:20241029T190217Z
UID:7157-1730653200-1730656800@broadwayurc-worcs.org.uk
SUMMARY:Tree of Light & All Souls Service on The Green
DESCRIPTION:
URL:https://broadwayurc-worcs.org.uk/event/tree-of-light-all-souls-service-on-the-green/
LOCATION:The Village Green\, Broadway
CATEGORIES:Sunday Service
END:VEVENT
BEGIN:VEVENT
DTSTART;TZID=Europe/London:20241110T104500
DTEND;TZID=Europe/London:20241110T120000
DTSTAMP:20260420T104512
CREATED:20240930T230632Z
LAST-MODIFIED:20241029T190025Z
UID:7137-1731235500-1731240000@broadwayurc-worcs.org.uk
SUMMARY:Sevice at the War Memorial - 10:45am
DESCRIPTION:
URL:https://broadwayurc-worcs.org.uk/event/no-sevice-at-urc/
LOCATION:War Memorial\, High Street\, Broadway\, WR12 7DP
CATEGORIES:Sunday Service
END:VEVENT
BEGIN:VEVENT
DTSTART;TZID=Europe/London:20241117T103000
DTEND;TZID=Europe/London:20241117T120000
DTSTAMP:20260420T104512
CREATED:20240930T230830Z
LAST-MODIFIED:20240930T230830Z
UID:7139-1731839400-1731844800@broadwayurc-worcs.org.uk
SUMMARY:Sunday Service with Revd David Laurence
DESCRIPTION:
URL:https://broadwayurc-worcs.org.uk/event/sunday-service-with-revd-david-laurence-4/
LOCATION:Broadway URC\, 77 High Street\, Broadway\, WR12 7AL\, United Kingdom
CATEGORIES:Sunday Service
END:VEVENT
BEGIN:VEVENT
DTSTART;TZID=Europe/London:20241124T103000
DTEND;TZID=Europe/London:20241124T120000
DTSTAMP:20260420T104512
CREATED:20240930T231051Z
LAST-MODIFIED:20241109T200457Z
UID:7141-1732444200-1732449600@broadwayurc-worcs.org.uk
SUMMARY:Sunday Service with Revd Jo Williamson
DESCRIPTION:
URL:https://broadwayurc-worcs.org.uk/event/sunday-service-with-revd-jo-williamson/
LOCATION:Broadway URC\, 77 High Street\, Broadway\, WR12 7AL\, United Kingdom
CATEGORIES:Sunday Service
END:VEVENT
END:VCALENDAR