BEGIN:VCALENDAR
VERSION:2.0
PRODID:-//BROADWAY UNITED REFORMED CHURCH - ECPv6.15.18//NONSGML v1.0//EN
CALSCALE:GREGORIAN
METHOD:PUBLISH
X-WR-CALNAME:BROADWAY UNITED REFORMED CHURCH
X-ORIGINAL-URL:https://broadwayurc-worcs.org.uk
X-WR-CALDESC:Events for BROADWAY UNITED REFORMED CHURCH
REFRESH-INTERVAL;VALUE=DURATION:PT1H
X-Robots-Tag:noindex
X-PUBLISHED-TTL:PT1H
BEGIN:VTIMEZONE
TZID:Europe/London
BEGIN:DAYLIGHT
TZOFFSETFROM:+0000
TZOFFSETTO:+0100
TZNAME:BST
DTSTART:20240331T010000
END:DAYLIGHT
BEGIN:STANDARD
TZOFFSETFROM:+0100
TZOFFSETTO:+0000
TZNAME:GMT
DTSTART:20241027T010000
END:STANDARD
BEGIN:DAYLIGHT
TZOFFSETFROM:+0000
TZOFFSETTO:+0100
TZNAME:BST
DTSTART:20250330T010000
END:DAYLIGHT
BEGIN:STANDARD
TZOFFSETFROM:+0100
TZOFFSETTO:+0000
TZNAME:GMT
DTSTART:20251026T010000
END:STANDARD
BEGIN:DAYLIGHT
TZOFFSETFROM:+0000
TZOFFSETTO:+0100
TZNAME:BST
DTSTART:20260329T010000
END:DAYLIGHT
BEGIN:STANDARD
TZOFFSETFROM:+0100
TZOFFSETTO:+0000
TZNAME:GMT
DTSTART:20261025T010000
END:STANDARD
END:VTIMEZONE
BEGIN:VEVENT
DTSTART;TZID=Europe/London:20250406T103000
DTEND;TZID=Europe/London:20250406T120000
DTSTAMP:20260421T134637
CREATED:20250128T134232Z
LAST-MODIFIED:20250128T134232Z
UID:7308-1743935400-1743940800@broadwayurc-worcs.org.uk
SUMMARY:Sunday Service with Michael Payne
DESCRIPTION:
URL:https://broadwayurc-worcs.org.uk/event/sunday-service-with-michael-payne-2/
LOCATION:Broadway URC\, 77 High Street\, Broadway\, WR12 7AL\, United Kingdom
CATEGORIES:Sunday Service
END:VEVENT
BEGIN:VEVENT
DTSTART;TZID=Europe/London:20250413T103000
DTEND;TZID=Europe/London:20250413T120000
DTSTAMP:20260421T134637
CREATED:20250128T134329Z
LAST-MODIFIED:20250128T134329Z
UID:7310-1744540200-1744545600@broadwayurc-worcs.org.uk
SUMMARY:Palm Sunday Service led by Revd John Sutcliffe
DESCRIPTION:
URL:https://broadwayurc-worcs.org.uk/event/palm-sunday-service-led-by-revd-john-sutcliffe/
LOCATION:Broadway URC\, 77 High Street\, Broadway\, WR12 7AL\, United Kingdom
CATEGORIES:Sunday Service
END:VEVENT
BEGIN:VEVENT
DTSTART;TZID=Europe/London:20250420T103000
DTEND;TZID=Europe/London:20250420T120000
DTSTAMP:20260421T134637
CREATED:20250128T134715Z
LAST-MODIFIED:20250413T114739Z
UID:7314-1745145000-1745150400@broadwayurc-worcs.org.uk
SUMMARY:Easter Sunday Service with Revd Iain McLaren
DESCRIPTION:
URL:https://broadwayurc-worcs.org.uk/event/easter-sunday-service-with-revd-iain-mclaren/
LOCATION:St Michaels & All Angels\, Church St\, Broadway\, WR12 7AE\, United Kingdom
CATEGORIES:Sunday Service
END:VEVENT
BEGIN:VEVENT
DTSTART;TZID=Europe/London:20250427T103000
DTEND;TZID=Europe/London:20250427T120000
DTSTAMP:20260421T134637
CREATED:20250128T134808Z
LAST-MODIFIED:20250128T134808Z
UID:7316-1745749800-1745755200@broadwayurc-worcs.org.uk
SUMMARY:Sunday Service with Revd Michael Harrison
DESCRIPTION:
URL:https://broadwayurc-worcs.org.uk/event/sunday-service-with-revd-michael-harrison-2/
LOCATION:Broadway URC\, 77 High Street\, Broadway\, WR12 7AL\, United Kingdom
CATEGORIES:Sunday Service
END:VEVENT
END:VCALENDAR