BEGIN:VCALENDAR
VERSION:2.0
PRODID:-//BROADWAY UNITED REFORMED CHURCH - ECPv6.15.18//NONSGML v1.0//EN
CALSCALE:GREGORIAN
METHOD:PUBLISH
X-WR-CALNAME:BROADWAY UNITED REFORMED CHURCH
X-ORIGINAL-URL:https://broadwayurc-worcs.org.uk
X-WR-CALDESC:Events for BROADWAY UNITED REFORMED CHURCH
REFRESH-INTERVAL;VALUE=DURATION:PT1H
X-Robots-Tag:noindex
X-PUBLISHED-TTL:PT1H
BEGIN:VTIMEZONE
TZID:Europe/London
BEGIN:DAYLIGHT
TZOFFSETFROM:+0000
TZOFFSETTO:+0100
TZNAME:BST
DTSTART:20240331T010000
END:DAYLIGHT
BEGIN:STANDARD
TZOFFSETFROM:+0100
TZOFFSETTO:+0000
TZNAME:GMT
DTSTART:20241027T010000
END:STANDARD
BEGIN:DAYLIGHT
TZOFFSETFROM:+0000
TZOFFSETTO:+0100
TZNAME:BST
DTSTART:20250330T010000
END:DAYLIGHT
BEGIN:STANDARD
TZOFFSETFROM:+0100
TZOFFSETTO:+0000
TZNAME:GMT
DTSTART:20251026T010000
END:STANDARD
BEGIN:DAYLIGHT
TZOFFSETFROM:+0000
TZOFFSETTO:+0100
TZNAME:BST
DTSTART:20260329T010000
END:DAYLIGHT
BEGIN:STANDARD
TZOFFSETFROM:+0100
TZOFFSETTO:+0000
TZNAME:GMT
DTSTART:20261025T010000
END:STANDARD
END:VTIMEZONE
BEGIN:VEVENT
DTSTART;TZID=Europe/London:20250601T103000
DTEND;TZID=Europe/London:20250601T120000
DTSTAMP:20260425T112838
CREATED:20250413T120833Z
LAST-MODIFIED:20250413T120833Z
UID:7347-1748773800-1748779200@broadwayurc-worcs.org.uk
SUMMARY:Sunday Service with Revd Brian Clarke
DESCRIPTION:
URL:https://broadwayurc-worcs.org.uk/event/sunday-service-with-revd-brian-clarke/
LOCATION:Broadway URC\, 77 High Street\, Broadway\, WR12 7AL\, United Kingdom
CATEGORIES:Sunday Service
END:VEVENT
BEGIN:VEVENT
DTSTART;TZID=Europe/London:20250608T103000
DTEND;TZID=Europe/London:20250608T120000
DTSTAMP:20260425T112838
CREATED:20250413T120921Z
LAST-MODIFIED:20250413T120921Z
UID:7349-1749378600-1749384000@broadwayurc-worcs.org.uk
SUMMARY:Sunday Service with Revd Eric Massey
DESCRIPTION:
URL:https://broadwayurc-worcs.org.uk/event/sunday-service-with-revd-eric-massey-2/
LOCATION:Broadway URC\, 77 High Street\, Broadway\, WR12 7AL\, United Kingdom
CATEGORIES:Sunday Service
END:VEVENT
BEGIN:VEVENT
DTSTART;TZID=Europe/London:20250615T103000
DTEND;TZID=Europe/London:20250615T120000
DTSTAMP:20260425T112838
CREATED:20250413T121050Z
LAST-MODIFIED:20250413T121050Z
UID:7351-1749983400-1749988800@broadwayurc-worcs.org.uk
SUMMARY:Sunday Service with Revd Iain McLaurence
DESCRIPTION:
URL:https://broadwayurc-worcs.org.uk/event/sunday-service-with-revd-iain-mclaurence/
LOCATION:Broadway URC\, 77 High Street\, Broadway\, WR12 7AL\, United Kingdom
CATEGORIES:Sunday Service
END:VEVENT
BEGIN:VEVENT
DTSTART;TZID=Europe/London:20250622T103000
DTEND;TZID=Europe/London:20250622T120000
DTSTAMP:20260425T112838
CREATED:20250413T121130Z
LAST-MODIFIED:20250705T191248Z
UID:7353-1750588200-1750593600@broadwayurc-worcs.org.uk
SUMMARY:Sunday Service - Methodists
DESCRIPTION:
URL:https://broadwayurc-worcs.org.uk/event/sunday-service-details-tbc-2/
LOCATION:Broadway URC\, 77 High Street\, Broadway\, WR12 7AL\, United Kingdom
CATEGORIES:Sunday Service
END:VEVENT
BEGIN:VEVENT
DTSTART;TZID=Europe/London:20250629T160000
DTEND;TZID=Europe/London:20250629T173000
DTSTAMP:20260425T112838
CREATED:20250413T121234Z
LAST-MODIFIED:20250413T121234Z
UID:7355-1751212800-1751218200@broadwayurc-worcs.org.uk
SUMMARY:4pm Sunday Tea Service with Revd Kathryn Louch
DESCRIPTION:
URL:https://broadwayurc-worcs.org.uk/event/4pm-sunday-tea-service-with-revd-kathryn-louch/
LOCATION:Broadway URC\, 77 High Street\, Broadway\, WR12 7AL\, United Kingdom
CATEGORIES:Sunday Service
END:VEVENT
END:VCALENDAR