BEGIN:VCALENDAR
VERSION:2.0
PRODID:-//BROADWAY UNITED REFORMED CHURCH - ECPv6.15.18//NONSGML v1.0//EN
CALSCALE:GREGORIAN
METHOD:PUBLISH
X-ORIGINAL-URL:https://broadwayurc-worcs.org.uk
X-WR-CALDESC:Events for BROADWAY UNITED REFORMED CHURCH
REFRESH-INTERVAL;VALUE=DURATION:PT1H
X-Robots-Tag:noindex
X-PUBLISHED-TTL:PT1H
BEGIN:VTIMEZONE
TZID:Europe/London
BEGIN:DAYLIGHT
TZOFFSETFROM:+0000
TZOFFSETTO:+0100
TZNAME:BST
DTSTART:20240331T010000
END:DAYLIGHT
BEGIN:STANDARD
TZOFFSETFROM:+0100
TZOFFSETTO:+0000
TZNAME:GMT
DTSTART:20241027T010000
END:STANDARD
BEGIN:DAYLIGHT
TZOFFSETFROM:+0000
TZOFFSETTO:+0100
TZNAME:BST
DTSTART:20250330T010000
END:DAYLIGHT
BEGIN:STANDARD
TZOFFSETFROM:+0100
TZOFFSETTO:+0000
TZNAME:GMT
DTSTART:20251026T010000
END:STANDARD
BEGIN:DAYLIGHT
TZOFFSETFROM:+0000
TZOFFSETTO:+0100
TZNAME:BST
DTSTART:20260329T010000
END:DAYLIGHT
BEGIN:STANDARD
TZOFFSETFROM:+0100
TZOFFSETTO:+0000
TZNAME:GMT
DTSTART:20261025T010000
END:STANDARD
END:VTIMEZONE
BEGIN:VEVENT
DTSTART;TZID=Europe/London:20250803T103000
DTEND;TZID=Europe/London:20250803T120000
DTSTAMP:20260423T094413
CREATED:20250705T175453Z
LAST-MODIFIED:20250714T141143Z
UID:7445-1754217000-1754222400@broadwayurc-worcs.org.uk
SUMMARY:Sunday Service with Jo Williamson
DESCRIPTION:
URL:https://broadwayurc-worcs.org.uk/event/sunday-service-with-revd-david-laurence-5/
LOCATION:Broadway URC\, 77 High Street\, Broadway\, WR12 7AL\, United Kingdom
CATEGORIES:Sunday Service
END:VEVENT
BEGIN:VEVENT
DTSTART;TZID=Europe/London:20250810T103000
DTEND;TZID=Europe/London:20250810T120000
DTSTAMP:20260423T094413
CREATED:20250705T175612Z
LAST-MODIFIED:20250714T141310Z
UID:7447-1754821800-1754827200@broadwayurc-worcs.org.uk
SUMMARY:Sunday Service - Revd Nick Stephen
DESCRIPTION:
URL:https://broadwayurc-worcs.org.uk/event/sunday-service-2/
LOCATION:Broadway URC\, 77 High Street\, Broadway\, WR12 7AL\, United Kingdom
CATEGORIES:Sunday Service
END:VEVENT
BEGIN:VEVENT
DTSTART;TZID=Europe/London:20250817T103000
DTEND;TZID=Europe/London:20250817T120000
DTSTAMP:20260423T094413
CREATED:20250705T175813Z
LAST-MODIFIED:20250705T175813Z
UID:7449-1755426600-1755432000@broadwayurc-worcs.org.uk
SUMMARY:Sunday Service with Revd Iain McLaren - Holy Communion
DESCRIPTION:
URL:https://broadwayurc-worcs.org.uk/event/sunday-service-with-revd-iain-mclaren-holy-communion/
LOCATION:Broadway URC\, 77 High Street\, Broadway\, WR12 7AL\, United Kingdom
CATEGORIES:Sunday Service
END:VEVENT
BEGIN:VEVENT
DTSTART;TZID=Europe/London:20250824T103000
DTEND;TZID=Europe/London:20250824T120000
DTSTAMP:20260423T094413
CREATED:20250705T175916Z
LAST-MODIFIED:20250714T141414Z
UID:7451-1756031400-1756036800@broadwayurc-worcs.org.uk
SUMMARY:Sunday Service - Songs of Praise
DESCRIPTION:
URL:https://broadwayurc-worcs.org.uk/event/sunday-service-led-the-worship-group/
LOCATION:Broadway URC\, 77 High Street\, Broadway\, WR12 7AL\, United Kingdom
CATEGORIES:Sunday Service
END:VEVENT
BEGIN:VEVENT
DTSTART;TZID=Europe/London:20250831T103000
DTEND;TZID=Europe/London:20250831T120000
DTSTAMP:20260423T094413
CREATED:20250705T180020Z
LAST-MODIFIED:20250705T180020Z
UID:7453-1756636200-1756641600@broadwayurc-worcs.org.uk
SUMMARY:Sunday Service with Revd Dee Brierly-Jones
DESCRIPTION:
URL:https://broadwayurc-worcs.org.uk/event/sunday-service-with-revd-dee-brierly-jones/
LOCATION:Broadway URC\, 77 High Street\, Broadway\, WR12 7AL\, United Kingdom
CATEGORIES:Sunday Service
END:VEVENT
END:VCALENDAR