BEGIN:VCALENDAR
VERSION:2.0
PRODID:-//BROADWAY UNITED REFORMED CHURCH - ECPv6.15.18//NONSGML v1.0//EN
CALSCALE:GREGORIAN
METHOD:PUBLISH
X-WR-CALNAME:BROADWAY UNITED REFORMED CHURCH
X-ORIGINAL-URL:https://broadwayurc-worcs.org.uk
X-WR-CALDESC:Events for BROADWAY UNITED REFORMED CHURCH
REFRESH-INTERVAL;VALUE=DURATION:PT1H
X-Robots-Tag:noindex
X-PUBLISHED-TTL:PT1H
BEGIN:VTIMEZONE
TZID:Europe/London
BEGIN:DAYLIGHT
TZOFFSETFROM:+0000
TZOFFSETTO:+0100
TZNAME:BST
DTSTART:20240331T010000
END:DAYLIGHT
BEGIN:STANDARD
TZOFFSETFROM:+0100
TZOFFSETTO:+0000
TZNAME:GMT
DTSTART:20241027T010000
END:STANDARD
BEGIN:DAYLIGHT
TZOFFSETFROM:+0000
TZOFFSETTO:+0100
TZNAME:BST
DTSTART:20250330T010000
END:DAYLIGHT
BEGIN:STANDARD
TZOFFSETFROM:+0100
TZOFFSETTO:+0000
TZNAME:GMT
DTSTART:20251026T010000
END:STANDARD
BEGIN:DAYLIGHT
TZOFFSETFROM:+0000
TZOFFSETTO:+0100
TZNAME:BST
DTSTART:20260329T010000
END:DAYLIGHT
BEGIN:STANDARD
TZOFFSETFROM:+0100
TZOFFSETTO:+0000
TZNAME:GMT
DTSTART:20261025T010000
END:STANDARD
END:VTIMEZONE
BEGIN:VEVENT
DTSTART;TZID=Europe/London:20250907T103000
DTEND;TZID=Europe/London:20250907T120000
DTSTAMP:20260421T091951
CREATED:20250705T180206Z
LAST-MODIFIED:20250714T141522Z
UID:7455-1757241000-1757246400@broadwayurc-worcs.org.uk
SUMMARY:Sunday Service with Revd David Laurence - Holy Communion
DESCRIPTION:
URL:https://broadwayurc-worcs.org.uk/event/sunday-service-led-by-revd-jo-williamson-holy-communion/
LOCATION:Broadway URC\, 77 High Street\, Broadway\, WR12 7AL\, United Kingdom
CATEGORIES:Sunday Service
END:VEVENT
BEGIN:VEVENT
DTSTART;TZID=Europe/London:20250914T103000
DTEND;TZID=Europe/London:20250914T120000
DTSTAMP:20260421T091951
CREATED:20250705T180238Z
LAST-MODIFIED:20250714T141605Z
UID:7457-1757845800-1757851200@broadwayurc-worcs.org.uk
SUMMARY:Sunday Service led by the Worship Group
DESCRIPTION:
URL:https://broadwayurc-worcs.org.uk/event/sunday-service-8/
LOCATION:Broadway URC\, 77 High Street\, Broadway\, WR12 7AL\, United Kingdom
CATEGORIES:Sunday Service
END:VEVENT
BEGIN:VEVENT
DTSTART;TZID=Europe/London:20250921T103000
DTEND;TZID=Europe/London:20250921T120000
DTSTAMP:20260421T091951
CREATED:20250705T180341Z
LAST-MODIFIED:20250705T180341Z
UID:7459-1758450600-1758456000@broadwayurc-worcs.org.uk
SUMMARY:Sunday Service with Revd Iain McLaren
DESCRIPTION:
URL:https://broadwayurc-worcs.org.uk/event/sunday-service-with-revd-iain-mclaren-12/
LOCATION:Broadway URC\, 77 High Street\, Broadway\, WR12 7AL\, United Kingdom
CATEGORIES:Sunday Service
END:VEVENT
BEGIN:VEVENT
DTSTART;TZID=Europe/London:20250928T103000
DTEND;TZID=Europe/London:20250928T120000
DTSTAMP:20260421T091951
CREATED:20250705T180454Z
LAST-MODIFIED:20250705T180454Z
UID:7461-1759055400-1759060800@broadwayurc-worcs.org.uk
SUMMARY:Harvest Festival led by Revd John Sutcliffe
DESCRIPTION:
URL:https://broadwayurc-worcs.org.uk/event/harvest-festival-led-by-revd-john-sutcliffe/
LOCATION:Broadway URC\, 77 High Street\, Broadway\, WR12 7AL\, United Kingdom
CATEGORIES:Sunday Service
END:VEVENT
END:VCALENDAR