BEGIN:VCALENDAR
VERSION:2.0
PRODID:-//BROADWAY UNITED REFORMED CHURCH - ECPv6.15.18//NONSGML v1.0//EN
CALSCALE:GREGORIAN
METHOD:PUBLISH
X-ORIGINAL-URL:https://broadwayurc-worcs.org.uk
X-WR-CALDESC:Events for BROADWAY UNITED REFORMED CHURCH
REFRESH-INTERVAL;VALUE=DURATION:PT1H
X-Robots-Tag:noindex
X-PUBLISHED-TTL:PT1H
BEGIN:VTIMEZONE
TZID:Europe/London
BEGIN:DAYLIGHT
TZOFFSETFROM:+0000
TZOFFSETTO:+0100
TZNAME:BST
DTSTART:20240331T010000
END:DAYLIGHT
BEGIN:STANDARD
TZOFFSETFROM:+0100
TZOFFSETTO:+0000
TZNAME:GMT
DTSTART:20241027T010000
END:STANDARD
BEGIN:DAYLIGHT
TZOFFSETFROM:+0000
TZOFFSETTO:+0100
TZNAME:BST
DTSTART:20250330T010000
END:DAYLIGHT
BEGIN:STANDARD
TZOFFSETFROM:+0100
TZOFFSETTO:+0000
TZNAME:GMT
DTSTART:20251026T010000
END:STANDARD
BEGIN:DAYLIGHT
TZOFFSETFROM:+0000
TZOFFSETTO:+0100
TZNAME:BST
DTSTART:20260329T010000
END:DAYLIGHT
BEGIN:STANDARD
TZOFFSETFROM:+0100
TZOFFSETTO:+0000
TZNAME:GMT
DTSTART:20261025T010000
END:STANDARD
END:VTIMEZONE
BEGIN:VEVENT
DTSTART;TZID=Europe/London:20251207T103000
DTEND;TZID=Europe/London:20251207T120000
DTSTAMP:20260419T030435
CREATED:20250714T142855Z
LAST-MODIFIED:20250925T203402Z
UID:7620-1765103400-1765108800@broadwayurc-worcs.org.uk
SUMMARY:Sunday Service with Revd Dee Brierley-Jones
DESCRIPTION:
URL:https://broadwayurc-worcs.org.uk/event/sunday-service-with-revd-jo-williamson-3/
LOCATION:Broadway URC\, 77 High Street\, Broadway\, WR12 7AL\, United Kingdom
CATEGORIES:Sunday Service
END:VEVENT
BEGIN:VEVENT
DTSTART;TZID=Europe/London:20251214T103000
DTEND;TZID=Europe/London:20251214T120000
DTSTAMP:20260419T030435
CREATED:20250714T142935Z
LAST-MODIFIED:20250714T142935Z
UID:7622-1765708200-1765713600@broadwayurc-worcs.org.uk
SUMMARY:Sunday Service - Methodists
DESCRIPTION:
URL:https://broadwayurc-worcs.org.uk/event/sunday-service-methodists/
LOCATION:Broadway URC\, 77 High Street\, Broadway\, WR12 7AL\, United Kingdom
CATEGORIES:Sunday Service
END:VEVENT
BEGIN:VEVENT
DTSTART;TZID=Europe/London:20251221T150000
DTEND;TZID=Europe/London:20251221T163000
DTSTAMP:20260419T030435
CREATED:20250714T143111Z
LAST-MODIFIED:20250714T143111Z
UID:7624-1766329200-1766334600@broadwayurc-worcs.org.uk
SUMMARY:Carol Service with Revd Iain McLaren - 3PM
DESCRIPTION:
URL:https://broadwayurc-worcs.org.uk/event/carol-service-with-revd-iain-mclaren-3pm/
LOCATION:Broadway URC\, 77 High Street\, Broadway\, WR12 7AL\, United Kingdom
CATEGORIES:Sunday Service
END:VEVENT
BEGIN:VEVENT
DTSTART;TZID=Europe/London:20251225T103000
DTEND;TZID=Europe/London:20251225T120000
DTSTAMP:20260419T030435
CREATED:20250714T143226Z
LAST-MODIFIED:20250925T203504Z
UID:7626-1766658600-1766664000@broadwayurc-worcs.org.uk
SUMMARY:Christmas Day Service - NO SERVICE
DESCRIPTION:
URL:https://broadwayurc-worcs.org.uk/event/christmas-day-service-tbc/
LOCATION:Broadway URC\, 77 High Street\, Broadway\, WR12 7AL\, United Kingdom
CATEGORIES:Sunday Service
END:VEVENT
BEGIN:VEVENT
DTSTART;TZID=Europe/London:20251228T103000
DTEND;TZID=Europe/London:20251228T120000
DTSTAMP:20260419T030435
CREATED:20250714T143333Z
LAST-MODIFIED:20251222T142324Z
UID:7628-1766917800-1766923200@broadwayurc-worcs.org.uk
SUMMARY:Sunday Service - Readings & Carols with Christine Browne
DESCRIPTION:
URL:https://broadwayurc-worcs.org.uk/event/sunday-service-tbc/
LOCATION:Broadway URC\, 77 High Street\, Broadway\, WR12 7AL\, United Kingdom
CATEGORIES:Sunday Service
END:VEVENT
END:VCALENDAR