BEGIN:VCALENDAR
VERSION:2.0
PRODID:-//BROADWAY UNITED REFORMED CHURCH - ECPv6.15.18//NONSGML v1.0//EN
CALSCALE:GREGORIAN
METHOD:PUBLISH
X-WR-CALNAME:BROADWAY UNITED REFORMED CHURCH
X-ORIGINAL-URL:https://broadwayurc-worcs.org.uk
X-WR-CALDESC:Events for BROADWAY UNITED REFORMED CHURCH
REFRESH-INTERVAL;VALUE=DURATION:PT1H
X-Robots-Tag:noindex
X-PUBLISHED-TTL:PT1H
BEGIN:VTIMEZONE
TZID:Europe/London
BEGIN:DAYLIGHT
TZOFFSETFROM:+0000
TZOFFSETTO:+0100
TZNAME:BST
DTSTART:20250330T010000
END:DAYLIGHT
BEGIN:STANDARD
TZOFFSETFROM:+0100
TZOFFSETTO:+0000
TZNAME:GMT
DTSTART:20251026T010000
END:STANDARD
BEGIN:DAYLIGHT
TZOFFSETFROM:+0000
TZOFFSETTO:+0100
TZNAME:BST
DTSTART:20260329T010000
END:DAYLIGHT
BEGIN:STANDARD
TZOFFSETFROM:+0100
TZOFFSETTO:+0000
TZNAME:GMT
DTSTART:20261025T010000
END:STANDARD
BEGIN:DAYLIGHT
TZOFFSETFROM:+0000
TZOFFSETTO:+0100
TZNAME:BST
DTSTART:20270328T010000
END:DAYLIGHT
BEGIN:STANDARD
TZOFFSETFROM:+0100
TZOFFSETTO:+0000
TZNAME:GMT
DTSTART:20271031T010000
END:STANDARD
END:VTIMEZONE
BEGIN:VEVENT
DTSTART;TZID=Europe/London:20260201T103000
DTEND;TZID=Europe/London:20260201T120000
DTSTAMP:20260419T133211
CREATED:20251222T133934Z
LAST-MODIFIED:20251222T133934Z
UID:7857-1769941800-1769947200@broadwayurc-worcs.org.uk
SUMMARY:Sunday Service with Revd David Laurence
DESCRIPTION:
URL:https://broadwayurc-worcs.org.uk/event/sunday-service-with-revd-david-laurence-6/
LOCATION:Broadway URC\, 77 High Street\, Broadway\, WR12 7AL\, United Kingdom
CATEGORIES:Sunday Service
END:VEVENT
BEGIN:VEVENT
DTSTART;TZID=Europe/London:20260208T103000
DTEND;TZID=Europe/London:20260208T120000
DTSTAMP:20260419T133211
CREATED:20251222T134015Z
LAST-MODIFIED:20251222T134530Z
UID:7859-1770546600-1770552000@broadwayurc-worcs.org.uk
SUMMARY:Sunday Service led by Church Worship Group
DESCRIPTION:
URL:https://broadwayurc-worcs.org.uk/event/sunday-service-led-by-worship-group-3/
LOCATION:Broadway URC\, 77 High Street\, Broadway\, WR12 7AL\, United Kingdom
CATEGORIES:Sunday Service
END:VEVENT
BEGIN:VEVENT
DTSTART;TZID=Europe/London:20260215T103000
DTEND;TZID=Europe/London:20260215T120000
DTSTAMP:20260419T133211
CREATED:20251222T134055Z
LAST-MODIFIED:20251222T134055Z
UID:7861-1771151400-1771156800@broadwayurc-worcs.org.uk
SUMMARY:Sunday Service with Revd Iain McLaren - Holy Communion
DESCRIPTION:
URL:https://broadwayurc-worcs.org.uk/event/sunday-service-with-revd-iain-mclaren-holy-communion-3/
LOCATION:Broadway URC\, 77 High Street\, Broadway\, WR12 7AL\, United Kingdom
CATEGORIES:Sunday Service
END:VEVENT
BEGIN:VEVENT
DTSTART;TZID=Europe/London:20260222T103000
DTEND;TZID=Europe/London:20260222T120000
DTSTAMP:20260419T133211
CREATED:20251222T134200Z
LAST-MODIFIED:20251222T134200Z
UID:7863-1771756200-1771761600@broadwayurc-worcs.org.uk
SUMMARY:Sunday Service with Michael Watts - Methodists
DESCRIPTION:
URL:https://broadwayurc-worcs.org.uk/event/sunday-service-with-michael-watts-methodists/
LOCATION:Broadway URC\, 77 High Street\, Broadway\, WR12 7AL\, United Kingdom
CATEGORIES:Sunday Service
END:VEVENT
END:VCALENDAR