BEGIN:VCALENDAR
VERSION:2.0
PRODID:-//BROADWAY UNITED REFORMED CHURCH - ECPv6.15.18//NONSGML v1.0//EN
CALSCALE:GREGORIAN
METHOD:PUBLISH
X-WR-CALNAME:BROADWAY UNITED REFORMED CHURCH
X-ORIGINAL-URL:https://broadwayurc-worcs.org.uk
X-WR-CALDESC:Events for BROADWAY UNITED REFORMED CHURCH
REFRESH-INTERVAL;VALUE=DURATION:PT1H
X-Robots-Tag:noindex
X-PUBLISHED-TTL:PT1H
BEGIN:VTIMEZONE
TZID:Europe/London
BEGIN:DAYLIGHT
TZOFFSETFROM:+0000
TZOFFSETTO:+0100
TZNAME:BST
DTSTART:20230326T010000
END:DAYLIGHT
BEGIN:STANDARD
TZOFFSETFROM:+0100
TZOFFSETTO:+0000
TZNAME:GMT
DTSTART:20231029T010000
END:STANDARD
BEGIN:DAYLIGHT
TZOFFSETFROM:+0000
TZOFFSETTO:+0100
TZNAME:BST
DTSTART:20240331T010000
END:DAYLIGHT
BEGIN:STANDARD
TZOFFSETFROM:+0100
TZOFFSETTO:+0000
TZNAME:GMT
DTSTART:20241027T010000
END:STANDARD
BEGIN:DAYLIGHT
TZOFFSETFROM:+0000
TZOFFSETTO:+0100
TZNAME:BST
DTSTART:20250330T010000
END:DAYLIGHT
BEGIN:STANDARD
TZOFFSETFROM:+0100
TZOFFSETTO:+0000
TZNAME:GMT
DTSTART:20251026T010000
END:STANDARD
BEGIN:DAYLIGHT
TZOFFSETFROM:+0000
TZOFFSETTO:+0100
TZNAME:BST
DTSTART:20260329T010000
END:DAYLIGHT
BEGIN:STANDARD
TZOFFSETFROM:+0100
TZOFFSETTO:+0000
TZNAME:GMT
DTSTART:20261025T010000
END:STANDARD
END:VTIMEZONE
BEGIN:VEVENT
DTSTART;TZID=Europe/London:20240908T103000
DTEND;TZID=Europe/London:20240908T120000
DTSTAMP:20260426T053131
CREATED:20240707T125836Z
LAST-MODIFIED:20240707T125836Z
UID:7053-1725791400-1725796800@broadwayurc-worcs.org.uk
SUMMARY:Sunday Service with Donald McCombie
DESCRIPTION:
URL:https://broadwayurc-worcs.org.uk/event/sunday-service-with-donald-mccombie/
LOCATION:Broadway URC\, 77 High Street\, Broadway\, WR12 7AL\, United Kingdom
CATEGORIES:Sunday Service
END:VEVENT
BEGIN:VEVENT
DTSTART;TZID=Europe/London:20240915T103000
DTEND;TZID=Europe/London:20240915T120000
DTSTAMP:20260426T053131
CREATED:20240707T125938Z
LAST-MODIFIED:20240707T125938Z
UID:7055-1726396200-1726401600@broadwayurc-worcs.org.uk
SUMMARY:Sunday Service with Revd Iain McLaren
DESCRIPTION:
URL:https://broadwayurc-worcs.org.uk/event/sunday-service-with-revd-iain-mclaren-5/
LOCATION:Broadway URC\, 77 High Street\, Broadway\, WR12 7AL\, United Kingdom
CATEGORIES:Sunday Service
END:VEVENT
BEGIN:VEVENT
DTSTART;TZID=Europe/London:20240922T103000
DTEND;TZID=Europe/London:20240922T120000
DTSTAMP:20260426T053131
CREATED:20240707T130112Z
LAST-MODIFIED:20240707T130112Z
UID:7057-1727001000-1727006400@broadwayurc-worcs.org.uk
SUMMARY:Sunday Service with Su Bailey & Trevor Tipple
DESCRIPTION:
URL:https://broadwayurc-worcs.org.uk/event/sunday-service-with-su-bailey-trevor-tipple/
LOCATION:Broadway URC\, 77 High Street\, Broadway\, WR12 7AL\, United Kingdom
CATEGORIES:Sunday Service
END:VEVENT
BEGIN:VEVENT
DTSTART;TZID=Europe/London:20240929T103000
DTEND;TZID=Europe/London:20240929T113000
DTSTAMP:20260426T053131
CREATED:20240815T170341Z
LAST-MODIFIED:20240815T170341Z
UID:7082-1727605800-1727609400@broadwayurc-worcs.org.uk
SUMMARY:Harvest Celebration Service
DESCRIPTION:Harvest Celebration Service\, 29 Sept 2024\, 10.30 to 11.30 am. \nFriendly\, uncomplicated service especially if you don’t usually go to church. \nEnjoy refreshments afterwards. All donations will go to Broadway Community Foodbank.
URL:https://broadwayurc-worcs.org.uk/event/harvest-celebration-service/
LOCATION:Broadway URC\, 77 High Street\, Broadway\, WR12 7AL\, United Kingdom
CATEGORIES:Sunday Service
END:VEVENT
BEGIN:VEVENT
DTSTART;TZID=Europe/London:20240929T103000
DTEND;TZID=Europe/London:20240929T120000
DTSTAMP:20260426T053131
CREATED:20240707T130241Z
LAST-MODIFIED:20240707T130241Z
UID:7059-1727605800-1727611200@broadwayurc-worcs.org.uk
SUMMARY:Harvest Festival with Revd Julie Jefferies
DESCRIPTION:
URL:https://broadwayurc-worcs.org.uk/event/harvest-festival-with-revd-julie-jefferies/
LOCATION:Broadway URC\, 77 High Street\, Broadway\, WR12 7AL\, United Kingdom
CATEGORIES:Sunday Service
END:VEVENT
BEGIN:VEVENT
DTSTART;TZID=Europe/London:20241006T103000
DTEND;TZID=Europe/London:20241006T120000
DTSTAMP:20260426T053131
CREATED:20240930T225644Z
LAST-MODIFIED:20240930T225644Z
UID:7125-1728210600-1728216000@broadwayurc-worcs.org.uk
SUMMARY:Sunday Service with Revd John Sutcliffe
DESCRIPTION:
URL:https://broadwayurc-worcs.org.uk/event/sunday-service-with-revd-john-sutcliffe-2/
LOCATION:Broadway URC\, 77 High Street\, Broadway\, WR12 7AL\, United Kingdom
CATEGORIES:Sunday Service
END:VEVENT
BEGIN:VEVENT
DTSTART;TZID=Europe/London:20241013T103000
DTEND;TZID=Europe/London:20241013T120000
DTSTAMP:20260426T053131
CREATED:20240930T225805Z
LAST-MODIFIED:20240930T225805Z
UID:7127-1728815400-1728820800@broadwayurc-worcs.org.uk
SUMMARY:Sunday Service with Revd Brierley-Jones
DESCRIPTION:
URL:https://broadwayurc-worcs.org.uk/event/sunday-service-with-revd-brierley-jones/
LOCATION:Broadway URC\, 77 High Street\, Broadway\, WR12 7AL\, United Kingdom
CATEGORIES:Sunday Service
END:VEVENT
BEGIN:VEVENT
DTSTART;TZID=Europe/London:20241020T103000
DTEND;TZID=Europe/London:20241020T120000
DTSTAMP:20260426T053131
CREATED:20240930T225943Z
LAST-MODIFIED:20240930T225943Z
UID:7129-1729420200-1729425600@broadwayurc-worcs.org.uk
SUMMARY:Sunday Service with Anna Gobledale
DESCRIPTION:
URL:https://broadwayurc-worcs.org.uk/event/sunday-service-with-anna-gobledale/
LOCATION:Broadway URC\, 77 High Street\, Broadway\, WR12 7AL\, United Kingdom
CATEGORIES:Sunday Service
END:VEVENT
BEGIN:VEVENT
DTSTART;TZID=Europe/London:20241027T103000
DTEND;TZID=Europe/London:20241027T120000
DTSTAMP:20260426T053131
CREATED:20240930T230215Z
LAST-MODIFIED:20240930T230215Z
UID:7132-1730025000-1730030400@broadwayurc-worcs.org.uk
SUMMARY:Sunday Service led by Revd Martin Henninger with Holy Communion
DESCRIPTION:
URL:https://broadwayurc-worcs.org.uk/event/sunday-service-led-by-revd-martin-henninger-with-holy-communion/
LOCATION:Broadway URC\, 77 High Street\, Broadway\, WR12 7AL\, United Kingdom
CATEGORIES:Sunday Service
END:VEVENT
BEGIN:VEVENT
DTSTART;TZID=Europe/London:20241103T103000
DTEND;TZID=Europe/London:20241103T120000
DTSTAMP:20260426T053131
CREATED:20240930T230503Z
LAST-MODIFIED:20240930T230503Z
UID:7135-1730629800-1730635200@broadwayurc-worcs.org.uk
SUMMARY:Sunday Service with Revd Iain McLaren
DESCRIPTION:
URL:https://broadwayurc-worcs.org.uk/event/sunday-service-with-revd-iain-mclaren-6/
LOCATION:Broadway URC\, 77 High Street\, Broadway\, WR12 7AL\, United Kingdom
CATEGORIES:Sunday Service
END:VEVENT
BEGIN:VEVENT
DTSTART;TZID=Europe/London:20241103T170000
DTEND;TZID=Europe/London:20241103T180000
DTSTAMP:20260426T053131
CREATED:20241029T190217Z
LAST-MODIFIED:20241029T190217Z
UID:7157-1730653200-1730656800@broadwayurc-worcs.org.uk
SUMMARY:Tree of Light & All Souls Service on The Green
DESCRIPTION:
URL:https://broadwayurc-worcs.org.uk/event/tree-of-light-all-souls-service-on-the-green/
LOCATION:The Village Green\, Broadway
CATEGORIES:Sunday Service
END:VEVENT
BEGIN:VEVENT
DTSTART;TZID=Europe/London:20241110T104500
DTEND;TZID=Europe/London:20241110T120000
DTSTAMP:20260426T053131
CREATED:20240930T230632Z
LAST-MODIFIED:20241029T190025Z
UID:7137-1731235500-1731240000@broadwayurc-worcs.org.uk
SUMMARY:Sevice at the War Memorial - 10:45am
DESCRIPTION:
URL:https://broadwayurc-worcs.org.uk/event/no-sevice-at-urc/
LOCATION:War Memorial\, High Street\, Broadway\, WR12 7DP
CATEGORIES:Sunday Service
END:VEVENT
BEGIN:VEVENT
DTSTART;TZID=Europe/London:20241117T103000
DTEND;TZID=Europe/London:20241117T120000
DTSTAMP:20260426T053131
CREATED:20240930T230830Z
LAST-MODIFIED:20240930T230830Z
UID:7139-1731839400-1731844800@broadwayurc-worcs.org.uk
SUMMARY:Sunday Service with Revd David Laurence
DESCRIPTION:
URL:https://broadwayurc-worcs.org.uk/event/sunday-service-with-revd-david-laurence-4/
LOCATION:Broadway URC\, 77 High Street\, Broadway\, WR12 7AL\, United Kingdom
CATEGORIES:Sunday Service
END:VEVENT
BEGIN:VEVENT
DTSTART;TZID=Europe/London:20241124T103000
DTEND;TZID=Europe/London:20241124T120000
DTSTAMP:20260426T053131
CREATED:20240930T231051Z
LAST-MODIFIED:20241109T200457Z
UID:7141-1732444200-1732449600@broadwayurc-worcs.org.uk
SUMMARY:Sunday Service with Revd Jo Williamson
DESCRIPTION:
URL:https://broadwayurc-worcs.org.uk/event/sunday-service-with-revd-jo-williamson/
LOCATION:Broadway URC\, 77 High Street\, Broadway\, WR12 7AL\, United Kingdom
CATEGORIES:Sunday Service
END:VEVENT
BEGIN:VEVENT
DTSTART;TZID=Europe/London:20241201T103000
DTEND;TZID=Europe/London:20241201T120000
DTSTAMP:20260426T053131
CREATED:20241109T200420Z
LAST-MODIFIED:20241110T184848Z
UID:7193-1733049000-1733054400@broadwayurc-worcs.org.uk
SUMMARY:Sunday Service with Revd Iain McLaren - Holy Communion
DESCRIPTION:
URL:https://broadwayurc-worcs.org.uk/event/sunday-service-with-revd-iain-mclaren-7/
LOCATION:Broadway URC\, 77 High Street\, Broadway\, WR12 7AL\, United Kingdom
CATEGORIES:Sunday Service
END:VEVENT
BEGIN:VEVENT
DTSTART;TZID=Europe/London:20241208T103000
DTEND;TZID=Europe/London:20241208T120000
DTSTAMP:20260426T053131
CREATED:20241109T200613Z
LAST-MODIFIED:20241109T200613Z
UID:7195-1733653800-1733659200@broadwayurc-worcs.org.uk
SUMMARY:Sunday Service with Revd Kathryn Louch
DESCRIPTION:
URL:https://broadwayurc-worcs.org.uk/event/sunday-service-with-revd-kathryn-louch-4/
LOCATION:Broadway URC\, 77 High Street\, Broadway\, WR12 7AL\, United Kingdom
CATEGORIES:Sunday Service
END:VEVENT
BEGIN:VEVENT
DTSTART;TZID=Europe/London:20241215T103000
DTEND;TZID=Europe/London:20241215T120000
DTSTAMP:20260426T053131
CREATED:20241109T200731Z
LAST-MODIFIED:20241109T200731Z
UID:7197-1734258600-1734264000@broadwayurc-worcs.org.uk
SUMMARY:Sunday Service led by the Worship Group
DESCRIPTION:
URL:https://broadwayurc-worcs.org.uk/event/sunday-service-led-by-the-worship-group-5/
LOCATION:Broadway URC\, 77 High Street\, Broadway\, WR12 7AL\, United Kingdom
CATEGORIES:Sunday Service
END:VEVENT
BEGIN:VEVENT
DTSTART;TZID=Europe/London:20241222T150000
DTEND;TZID=Europe/London:20241222T163000
DTSTAMP:20260426T053131
CREATED:20241109T200834Z
LAST-MODIFIED:20241109T200834Z
UID:7199-1734879600-1734885000@broadwayurc-worcs.org.uk
SUMMARY:Carol Service with Revd Iain McLaren
DESCRIPTION:
URL:https://broadwayurc-worcs.org.uk/event/carol-service-with-revd-iain-mclaren/
LOCATION:Broadway URC\, 77 High Street\, Broadway\, WR12 7AL\, United Kingdom
CATEGORIES:Sunday Service
END:VEVENT
BEGIN:VEVENT
DTSTART;TZID=Europe/London:20241229T103000
DTEND;TZID=Europe/London:20241229T120000
DTSTAMP:20260426T053131
CREATED:20241109T201027Z
LAST-MODIFIED:20241109T201027Z
UID:7201-1735468200-1735473600@broadwayurc-worcs.org.uk
SUMMARY:Service TBC
DESCRIPTION:
URL:https://broadwayurc-worcs.org.uk/event/service-tbc/
CATEGORIES:Sunday Service
END:VEVENT
BEGIN:VEVENT
DTSTART;TZID=Europe/London:20250105T103000
DTEND;TZID=Europe/London:20250105T120000
DTSTAMP:20260426T053131
CREATED:20241109T201057Z
LAST-MODIFIED:20241111T192228Z
UID:7203-1736073000-1736078400@broadwayurc-worcs.org.uk
SUMMARY:Service with Revd Kathryn Louch
DESCRIPTION:
URL:https://broadwayurc-worcs.org.uk/event/service-tbc-2/
LOCATION:Broadway URC\, 77 High Street\, Broadway\, WR12 7AL\, United Kingdom
CATEGORIES:Sunday Service
END:VEVENT
BEGIN:VEVENT
DTSTART;TZID=Europe/London:20250112T103000
DTEND;TZID=Europe/London:20250112T120000
DTSTAMP:20260426T053131
CREATED:20241109T201141Z
LAST-MODIFIED:20241109T201141Z
UID:7205-1736677800-1736683200@broadwayurc-worcs.org.uk
SUMMARY:Sunday Service with Geoff Tizzard-King
DESCRIPTION:
URL:https://broadwayurc-worcs.org.uk/event/sunday-service-with-geoff-tizzard-king/
LOCATION:Broadway URC\, 77 High Street\, Broadway\, WR12 7AL\, United Kingdom
CATEGORIES:Sunday Service
END:VEVENT
BEGIN:VEVENT
DTSTART;TZID=Europe/London:20250119T103000
DTEND;TZID=Europe/London:20250119T120000
DTSTAMP:20260426T053131
CREATED:20241109T201218Z
LAST-MODIFIED:20241109T201218Z
UID:7207-1737282600-1737288000@broadwayurc-worcs.org.uk
SUMMARY:Sunday Service with Revd Iain McLaren
DESCRIPTION:
URL:https://broadwayurc-worcs.org.uk/event/sunday-service-with-revd-iain-mclaren-8/
LOCATION:Broadway URC\, 77 High Street\, Broadway\, WR12 7AL\, United Kingdom
CATEGORIES:Sunday Service
END:VEVENT
BEGIN:VEVENT
DTSTART;TZID=Europe/London:20250126T103000
DTEND;TZID=Europe/London:20250126T120000
DTSTAMP:20260426T053131
CREATED:20241109T201250Z
LAST-MODIFIED:20241111T191656Z
UID:7209-1737887400-1737892800@broadwayurc-worcs.org.uk
SUMMARY:Service with Revd Bob Algar
DESCRIPTION:
URL:https://broadwayurc-worcs.org.uk/event/service-tbc-3/
LOCATION:Broadway URC\, 77 High Street\, Broadway\, WR12 7AL\, United Kingdom
CATEGORIES:Sunday Service
END:VEVENT
BEGIN:VEVENT
DTSTART;TZID=Europe/London:20250202T103000
DTEND;TZID=Europe/London:20250202T120000
DTSTAMP:20260426T053131
CREATED:20250128T133430Z
LAST-MODIFIED:20250128T133430Z
UID:7290-1738492200-1738497600@broadwayurc-worcs.org.uk
SUMMARY:Sunday Service with Revd Mary Austin
DESCRIPTION:
URL:https://broadwayurc-worcs.org.uk/event/sunday-service-with-revd-mary-austin/
LOCATION:Broadway URC\, 77 High Street\, Broadway\, WR12 7AL\, United Kingdom
CATEGORIES:Sunday Service
END:VEVENT
BEGIN:VEVENT
DTSTART;TZID=Europe/London:20250209T103000
DTEND;TZID=Europe/London:20250209T120000
DTSTAMP:20260426T053131
CREATED:20250128T133541Z
LAST-MODIFIED:20250128T133541Z
UID:7292-1739097000-1739102400@broadwayurc-worcs.org.uk
SUMMARY:Sunday Service with Revd Jo Williamson
DESCRIPTION:
URL:https://broadwayurc-worcs.org.uk/event/sunday-service-with-revd-jo-williamson-2/
LOCATION:Broadway URC\, 77 High Street\, Broadway\, WR12 7AL\, United Kingdom
CATEGORIES:Sunday Service
END:VEVENT
BEGIN:VEVENT
DTSTART;TZID=Europe/London:20250216T103000
DTEND;TZID=Europe/London:20250216T120000
DTSTAMP:20260426T053131
CREATED:20250128T133631Z
LAST-MODIFIED:20250128T133631Z
UID:7294-1739701800-1739707200@broadwayurc-worcs.org.uk
SUMMARY:Sunday Service with Revd Iain McLaren
DESCRIPTION:
URL:https://broadwayurc-worcs.org.uk/event/sunday-service-with-revd-iain-mclaren-9/
LOCATION:Broadway URC\, 77 High Street\, Broadway\, WR12 7AL\, United Kingdom
CATEGORIES:Sunday Service
END:VEVENT
BEGIN:VEVENT
DTSTART;TZID=Europe/London:20250223T103000
DTEND;TZID=Europe/London:20250223T120000
DTSTAMP:20260426T053131
CREATED:20250128T133717Z
LAST-MODIFIED:20250128T133717Z
UID:7296-1740306600-1740312000@broadwayurc-worcs.org.uk
SUMMARY:Sunday Service led by the Worship Group
DESCRIPTION:
URL:https://broadwayurc-worcs.org.uk/event/sunday-service-led-by-the-worship-group/
LOCATION:Broadway URC\, 77 High Street\, Broadway\, WR12 7AL\, United Kingdom
CATEGORIES:Sunday Service
END:VEVENT
BEGIN:VEVENT
DTSTART;TZID=Europe/London:20250302T103000
DTEND;TZID=Europe/London:20250302T120000
DTSTAMP:20260426T053131
CREATED:20250128T133812Z
LAST-MODIFIED:20250305T174524Z
UID:7298-1740911400-1740916800@broadwayurc-worcs.org.uk
SUMMARY:Sunday Service - with Revd Dr Dee Brierley-Jones
DESCRIPTION:
URL:https://broadwayurc-worcs.org.uk/event/sunday-service-details-tbc/
LOCATION:Broadway URC\, 77 High Street\, Broadway\, WR12 7AL\, United Kingdom
CATEGORIES:Sunday Service
END:VEVENT
BEGIN:VEVENT
DTSTART;TZID=Europe/London:20250309T103000
DTEND;TZID=Europe/London:20250309T120000
DTSTAMP:20260426T053131
CREATED:20250128T133912Z
LAST-MODIFIED:20250305T174639Z
UID:7300-1741516200-1741521600@broadwayurc-worcs.org.uk
SUMMARY:Sunday Service with Michael Watts
DESCRIPTION:
URL:https://broadwayurc-worcs.org.uk/event/mothering-sunday/
LOCATION:Broadway URC\, 77 High Street\, Broadway\, WR12 7AL\, United Kingdom
CATEGORIES:Sunday Service
END:VEVENT
BEGIN:VEVENT
DTSTART;TZID=Europe/London:20250316T103000
DTEND;TZID=Europe/London:20250316T120000
DTSTAMP:20260426T053131
CREATED:20250128T134004Z
LAST-MODIFIED:20250128T134004Z
UID:7302-1742121000-1742126400@broadwayurc-worcs.org.uk
SUMMARY:Sunday Service with Revd Iain McLaren
DESCRIPTION:
URL:https://broadwayurc-worcs.org.uk/event/sunday-service-with-revd-iain-mclaren-10/
LOCATION:Broadway URC\, 77 High Street\, Broadway\, WR12 7AL\, United Kingdom
CATEGORIES:Sunday Service
END:VEVENT
END:VCALENDAR