BEGIN:VCALENDAR
VERSION:2.0
PRODID:-//BROADWAY UNITED REFORMED CHURCH - ECPv6.15.18//NONSGML v1.0//EN
CALSCALE:GREGORIAN
METHOD:PUBLISH
X-WR-CALNAME:BROADWAY UNITED REFORMED CHURCH
X-ORIGINAL-URL:https://broadwayurc-worcs.org.uk
X-WR-CALDESC:Events for BROADWAY UNITED REFORMED CHURCH
REFRESH-INTERVAL;VALUE=DURATION:PT1H
X-Robots-Tag:noindex
X-PUBLISHED-TTL:PT1H
BEGIN:VTIMEZONE
TZID:Europe/London
BEGIN:DAYLIGHT
TZOFFSETFROM:+0000
TZOFFSETTO:+0100
TZNAME:BST
DTSTART:20250330T010000
END:DAYLIGHT
BEGIN:STANDARD
TZOFFSETFROM:+0100
TZOFFSETTO:+0000
TZNAME:GMT
DTSTART:20251026T010000
END:STANDARD
BEGIN:DAYLIGHT
TZOFFSETFROM:+0000
TZOFFSETTO:+0100
TZNAME:BST
DTSTART:20260329T010000
END:DAYLIGHT
BEGIN:STANDARD
TZOFFSETFROM:+0100
TZOFFSETTO:+0000
TZNAME:GMT
DTSTART:20261025T010000
END:STANDARD
BEGIN:DAYLIGHT
TZOFFSETFROM:+0000
TZOFFSETTO:+0100
TZNAME:BST
DTSTART:20270328T010000
END:DAYLIGHT
BEGIN:STANDARD
TZOFFSETFROM:+0100
TZOFFSETTO:+0000
TZNAME:GMT
DTSTART:20271031T010000
END:STANDARD
END:VTIMEZONE
BEGIN:VEVENT
DTSTART;TZID=Europe/London:20260419T103000
DTEND;TZID=Europe/London:20260419T120000
DTSTAMP:20260419T133059
CREATED:20251222T135210Z
LAST-MODIFIED:20251222T135210Z
UID:7882-1776594600-1776600000@broadwayurc-worcs.org.uk
SUMMARY:Sunday Service with Revd Iain McLaren
DESCRIPTION:
URL:https://broadwayurc-worcs.org.uk/event/sunday-service-with-revd-iain-mclaren-15/
LOCATION:Broadway URC\, 77 High Street\, Broadway\, WR12 7AL\, United Kingdom
CATEGORIES:Sunday Service
END:VEVENT
BEGIN:VEVENT
DTSTART;TZID=Europe/London:20260416T140000
DTEND;TZID=Europe/London:20260416T160000
DTSTAMP:20260419T133059
CREATED:20260402T181412Z
LAST-MODIFIED:20260402T181412Z
UID:8014-1776348000-1776355200@broadwayurc-worcs.org.uk
SUMMARY:Today's Our Day
DESCRIPTION:Fun\, games and crafts for folk living with dementia and other conditions. Friends\, family\, and carers can stay with them\, or relax next door with a coffee chatting to folk with similar experience.
URL:https://broadwayurc-worcs.org.uk/event/todays-our-day-133/
LOCATION:Jubilee Room & URC Hall
CATEGORIES:General
END:VEVENT
BEGIN:VEVENT
DTSTART;TZID=Europe/London:20260416T120000
DTEND;TZID=Europe/London:20260416T133000
DTSTAMP:20260419T133059
CREATED:20260319T183107Z
LAST-MODIFIED:20260323T174716Z
UID:7924-1776340800-1776346200@broadwayurc-worcs.org.uk
SUMMARY:Start!
DESCRIPTION:
URL:https://broadwayurc-worcs.org.uk/event/start/
LOCATION:Jubilee Room\, 77\, High Street\, Broadway\, WR12 7AL\, United Kingdom
CATEGORIES:General
END:VEVENT
BEGIN:VEVENT
DTSTART;TZID=Europe/London:20260416T103000
DTEND;TZID=Europe/London:20260416T113000
DTSTAMP:20260419T133059
CREATED:20260402T180627Z
LAST-MODIFIED:20260402T180627Z
UID:7988-1776335400-1776339000@broadwayurc-worcs.org.uk
SUMMARY:Look After Yourself
DESCRIPTION:Gentle exercise seated or standing to improve your mobility\, balance\, and strength in a fun way. All in a friendly and relaxed environment. Every Thursday 10.30 to 11.30 am. In the Church Hall\, stay on for tea\, coffee\, and chat afterwards if you like.  CONTINUE READING ...
URL:https://broadwayurc-worcs.org.uk/event/look-after-yourself-130/
LOCATION:BURC Hall\, 77\, High Street\, Broadway\, WR12 7AL\, United Kingdom
CATEGORIES:General
END:VEVENT
BEGIN:VEVENT
DTSTART;TZID=Europe/London:20260412T103000
DTEND;TZID=Europe/London:20260412T120000
DTSTAMP:20260419T133059
CREATED:20251222T135129Z
LAST-MODIFIED:20251222T135129Z
UID:7880-1775989800-1775995200@broadwayurc-worcs.org.uk
SUMMARY:Sunday Service with Revd John Sutcliffe
DESCRIPTION:
URL:https://broadwayurc-worcs.org.uk/event/sunday-service-with-revd-john-sutcliffe/
LOCATION:Broadway URC\, 77 High Street\, Broadway\, WR12 7AL\, United Kingdom
CATEGORIES:Sunday Service
END:VEVENT
BEGIN:VEVENT
DTSTART;TZID=Europe/London:20260409T140000
DTEND;TZID=Europe/London:20260409T160000
DTSTAMP:20260419T133059
CREATED:20260402T181343Z
LAST-MODIFIED:20260402T181343Z
UID:8012-1775743200-1775750400@broadwayurc-worcs.org.uk
SUMMARY:Today's Our Day
DESCRIPTION:Fun\, games and crafts for folk living with dementia and other conditions. Friends\, family\, and carers can stay with them\, or relax next door with a coffee chatting to folk with similar experience.
URL:https://broadwayurc-worcs.org.uk/event/todays-our-day-132/
LOCATION:Jubilee Room & URC Hall
CATEGORIES:General
END:VEVENT
BEGIN:VEVENT
DTSTART;TZID=Europe/London:20260409T103000
DTEND;TZID=Europe/London:20260409T113000
DTSTAMP:20260419T133059
CREATED:20260402T180553Z
LAST-MODIFIED:20260402T180553Z
UID:7986-1775730600-1775734200@broadwayurc-worcs.org.uk
SUMMARY:Look After Yourself
DESCRIPTION:Gentle exercise seated or standing to improve your mobility\, balance\, and strength in a fun way. All in a friendly and relaxed environment. Every Thursday 10.30 to 11.30 am. In the Church Hall\, stay on for tea\, coffee\, and chat afterwards if you like.  CONTINUE READING ...
URL:https://broadwayurc-worcs.org.uk/event/look-after-yourself-129/
LOCATION:BURC Hall\, 77\, High Street\, Broadway\, WR12 7AL\, United Kingdom
CATEGORIES:General
END:VEVENT
BEGIN:VEVENT
DTSTART;TZID=Europe/London:20260407T140000
DTEND;TZID=Europe/London:20260407T160000
DTSTAMP:20260419T133059
CREATED:20251222T125027Z
LAST-MODIFIED:20251222T125027Z
UID:7760-1775570400-1775577600@broadwayurc-worcs.org.uk
SUMMARY:Boardom Busters
DESCRIPTION:Boardom Busters – enjoy a warm welcome\, games\, cake\, coffee \nFirst Tuesday of every month\, 2-4pm : in Broadway URC Hall. WR12 7AL \nChoose the games you’d like to play or just pop in for a cofee and cake. \nCome along for the whole session or stay as long as you can.  CONTINUE READING ...
URL:https://broadwayurc-worcs.org.uk/event/boardom-busters-32/
LOCATION:BURC Hall\, 77\, High Street\, Broadway\, WR12 7AL\, United Kingdom
CATEGORIES:General
END:VEVENT
BEGIN:VEVENT
DTSTART;TZID=Europe/London:20260405T103000
DTEND;TZID=Europe/London:20260405T120000
DTSTAMP:20260419T133059
CREATED:20251222T135055Z
LAST-MODIFIED:20260311T194111Z
UID:7878-1775385000-1775390400@broadwayurc-worcs.org.uk
SUMMARY:Celebrate Easter- Service led by Revd David Laurence
DESCRIPTION:
URL:https://broadwayurc-worcs.org.uk/event/easter-sunday-with-revd-david-laurence/
LOCATION:Broadway URC\, 77 High Street\, Broadway\, WR12 7AL\, United Kingdom
CATEGORIES:Sunday Service
END:VEVENT
BEGIN:VEVENT
DTSTART;TZID=Europe/London:20260402T180000
DTEND;TZID=Europe/London:20260402T200000
DTSTAMP:20260419T133059
CREATED:20251222T134939Z
LAST-MODIFIED:20260322T185703Z
UID:7876-1775152800-1775160000@broadwayurc-worcs.org.uk
SUMMARY:Maundy Thursday - Service with Revd Kathryn Louch
DESCRIPTION:A simple supper in the Hall at 6pm followed by a Maundy Thursday Service\, jointly held at Broadway URC with Methodist and Baptists including Holy Communion. A very solemn service in which the readings leading to the cross are read. The lights in the church are gradually extinguished and\, at the end\, everyone leaves in silence.  CONTINUE READING ...
URL:https://broadwayurc-worcs.org.uk/event/service-with-revd-kathryn-louch-maundy-thursday/
LOCATION:Broadway URC\, 77 High Street\, Broadway\, WR12 7AL\, United Kingdom
CATEGORIES:Worship
END:VEVENT
BEGIN:VEVENT
DTSTART;TZID=Europe/London:20260402T140000
DTEND;TZID=Europe/London:20260402T160000
DTSTAMP:20260419T133059
CREATED:20251222T131717Z
LAST-MODIFIED:20251222T131717Z
UID:7844-1775138400-1775145600@broadwayurc-worcs.org.uk
SUMMARY:Today's Our Day
DESCRIPTION:Fun\, games and crafts for folk living with dementia and other conditions. Friends\, family\, and carers can stay with them\, or relax next door with a coffee chatting to folk with similar experience.
URL:https://broadwayurc-worcs.org.uk/event/todays-our-day-131/
LOCATION:Jubilee Room & URC Hall
CATEGORIES:General
END:VEVENT
BEGIN:VEVENT
DTSTART;TZID=Europe/London:20260402T103000
DTEND;TZID=Europe/London:20260402T113000
DTSTAMP:20260419T133059
CREATED:20251222T131055Z
LAST-MODIFIED:20251222T131055Z
UID:7818-1775125800-1775129400@broadwayurc-worcs.org.uk
SUMMARY:Look After Yourself
DESCRIPTION:Gentle exercise seated or standing to improve your mobility\, balance\, and strength in a fun way. All in a friendly and relaxed environment. Every Thursday 10.30 to 11.30 am. In the Church Hall\, stay on for tea\, coffee\, and chat afterwards if you like.  CONTINUE READING ...
URL:https://broadwayurc-worcs.org.uk/event/look-after-yourself-128/
LOCATION:BURC Hall\, 77\, High Street\, Broadway\, WR12 7AL\, United Kingdom
CATEGORIES:General
END:VEVENT
BEGIN:VEVENT
DTSTART;TZID=Europe/London:20260329T103000
DTEND;TZID=Europe/London:20260329T120000
DTSTAMP:20260419T133059
CREATED:20251222T134806Z
LAST-MODIFIED:20251222T134806Z
UID:7874-1774780200-1774785600@broadwayurc-worcs.org.uk
SUMMARY:Sunday Service with Revd Colin Hollies - Palm Sunday
DESCRIPTION:
URL:https://broadwayurc-worcs.org.uk/event/sunday-service-with-revd-colin-hollies-palm-sunday/
LOCATION:Broadway URC\, 77 High Street\, Broadway\, WR12 7AL\, United Kingdom
CATEGORIES:Sunday Service
END:VEVENT
BEGIN:VEVENT
DTSTART;TZID=Europe/London:20260326T140000
DTEND;TZID=Europe/London:20260326T160000
DTSTAMP:20260419T133059
CREATED:20251222T131649Z
LAST-MODIFIED:20251222T131649Z
UID:7842-1774533600-1774540800@broadwayurc-worcs.org.uk
SUMMARY:Today's Our Day
DESCRIPTION:Fun\, games and crafts for folk living with dementia and other conditions. Friends\, family\, and carers can stay with them\, or relax next door with a coffee chatting to folk with similar experience.
URL:https://broadwayurc-worcs.org.uk/event/todays-our-day-130/
LOCATION:Jubilee Room & URC Hall
CATEGORIES:General
END:VEVENT
BEGIN:VEVENT
DTSTART;TZID=Europe/London:20260326T103000
DTEND;TZID=Europe/London:20260326T113000
DTSTAMP:20260419T133059
CREATED:20251222T131032Z
LAST-MODIFIED:20251222T131032Z
UID:7816-1774521000-1774524600@broadwayurc-worcs.org.uk
SUMMARY:Look After Yourself
DESCRIPTION:Gentle exercise seated or standing to improve your mobility\, balance\, and strength in a fun way. All in a friendly and relaxed environment. Every Thursday 10.30 to 11.30 am. In the Church Hall\, stay on for tea\, coffee\, and chat afterwards if you like.  CONTINUE READING ...
URL:https://broadwayurc-worcs.org.uk/event/look-after-yourself-127/
LOCATION:BURC Hall\, 77\, High Street\, Broadway\, WR12 7AL\, United Kingdom
CATEGORIES:General
END:VEVENT
BEGIN:VEVENT
DTSTART;TZID=Europe/London:20260322T103000
DTEND;TZID=Europe/London:20260322T120000
DTSTAMP:20260419T133059
CREATED:20251222T134430Z
LAST-MODIFIED:20251222T134654Z
UID:7871-1774175400-1774180800@broadwayurc-worcs.org.uk
SUMMARY:Sunday Service led by Church Worship Group
DESCRIPTION:
URL:https://broadwayurc-worcs.org.uk/event/sunday-service-led-by-church-worship-group/
LOCATION:Broadway URC\, 77 High Street\, Broadway\, WR12 7AL\, United Kingdom
CATEGORIES:Sunday Service
END:VEVENT
BEGIN:VEVENT
DTSTART;TZID=Europe/London:20260319T140000
DTEND;TZID=Europe/London:20260319T160000
DTSTAMP:20260419T133059
CREATED:20251222T131559Z
LAST-MODIFIED:20251222T131559Z
UID:7840-1773928800-1773936000@broadwayurc-worcs.org.uk
SUMMARY:Today's Our Day
DESCRIPTION:Fun\, games and crafts for folk living with dementia and other conditions. Friends\, family\, and carers can stay with them\, or relax next door with a coffee chatting to folk with similar experience.
URL:https://broadwayurc-worcs.org.uk/event/todays-our-day-129/
LOCATION:Jubilee Room & URC Hall
CATEGORIES:General
END:VEVENT
BEGIN:VEVENT
DTSTART;TZID=Europe/London:20260319T103000
DTEND;TZID=Europe/London:20260319T113000
DTSTAMP:20260419T133059
CREATED:20251222T130943Z
LAST-MODIFIED:20251222T130943Z
UID:7814-1773916200-1773919800@broadwayurc-worcs.org.uk
SUMMARY:Look After Yourself
DESCRIPTION:Gentle exercise seated or standing to improve your mobility\, balance\, and strength in a fun way. All in a friendly and relaxed environment. Every Thursday 10.30 to 11.30 am. In the Church Hall\, stay on for tea\, coffee\, and chat afterwards if you like.  CONTINUE READING ...
URL:https://broadwayurc-worcs.org.uk/event/look-after-yourself-126/
LOCATION:BURC Hall\, 77\, High Street\, Broadway\, WR12 7AL\, United Kingdom
CATEGORIES:General
END:VEVENT
BEGIN:VEVENT
DTSTART;TZID=Europe/London:20260318T140000
DTEND;TZID=Europe/London:20260318T160000
DTSTAMP:20260419T133059
CREATED:20251222T125619Z
LAST-MODIFIED:20251222T125619Z
UID:7778-1773842400-1773849600@broadwayurc-worcs.org.uk
SUMMARY:Threads
DESCRIPTION:Our Threads group meets on the third Wednesday of each month\, from 2 until 4 pm. We knit\, crochet and chat in an atmosphere of Christian fellowship. Some of us work on our own projects\, but we also share in making things for others. Squares are stitched together to make blankets\, some for adults\, some for children and babies. Teddy bears are knitted for ‘the Baby Bear project’\, to bring cheer to bewildered little ones\, some are refugees fleeing from war\, others experiencing different sorts of trauma. Twiddle mittens help dementia patients to remain calm\, giving them something to do with restless hands. All are welcome to join us and increase your feeling of all-round wellness in the Jubilee Room.  CONTINUE READING ...
URL:https://broadwayurc-worcs.org.uk/event/threads-15/
LOCATION:Jubilee Room\, 77\, High Street\, Broadway\, WR12 7AL\, United Kingdom
CATEGORIES:General
END:VEVENT
BEGIN:VEVENT
DTSTART;TZID=Europe/London:20260315T103000
DTEND;TZID=Europe/London:20260315T120000
DTSTAMP:20260419T133059
CREATED:20251222T134343Z
LAST-MODIFIED:20251222T134343Z
UID:7869-1773570600-1773576000@broadwayurc-worcs.org.uk
SUMMARY:Sunday Service with Revd Iain McLaren - Mothering Sunday
DESCRIPTION:
URL:https://broadwayurc-worcs.org.uk/event/sunday-service-with-revd-iain-mclaren-mothering-sunday/
LOCATION:Broadway URC\, 77 High Street\, Broadway\, WR12 7AL\, United Kingdom
CATEGORIES:Sunday Service
END:VEVENT
BEGIN:VEVENT
DTSTART;TZID=Europe/London:20260312T140000
DTEND;TZID=Europe/London:20260312T160000
DTSTAMP:20260419T133059
CREATED:20251222T131531Z
LAST-MODIFIED:20251222T131531Z
UID:7838-1773324000-1773331200@broadwayurc-worcs.org.uk
SUMMARY:Today's Our Day
DESCRIPTION:Fun\, games and crafts for folk living with dementia and other conditions. Friends\, family\, and carers can stay with them\, or relax next door with a coffee chatting to folk with similar experience.
URL:https://broadwayurc-worcs.org.uk/event/todays-our-day-128/
LOCATION:Jubilee Room & URC Hall
CATEGORIES:General
END:VEVENT
BEGIN:VEVENT
DTSTART;TZID=Europe/London:20260312T103000
DTEND;TZID=Europe/London:20260312T113000
DTSTAMP:20260419T133059
CREATED:20251222T130917Z
LAST-MODIFIED:20251222T130917Z
UID:7812-1773311400-1773315000@broadwayurc-worcs.org.uk
SUMMARY:Look After Yourself
DESCRIPTION:Gentle exercise seated or standing to improve your mobility\, balance\, and strength in a fun way. All in a friendly and relaxed environment. Every Thursday 10.30 to 11.30 am. In the Church Hall\, stay on for tea\, coffee\, and chat afterwards if you like.  CONTINUE READING ...
URL:https://broadwayurc-worcs.org.uk/event/look-after-yourself-125/
LOCATION:BURC Hall\, 77\, High Street\, Broadway\, WR12 7AL\, United Kingdom
CATEGORIES:General
END:VEVENT
BEGIN:VEVENT
DTSTART;TZID=Europe/London:20260308T103000
DTEND;TZID=Europe/London:20260308T120000
DTSTAMP:20260419T133059
CREATED:20251222T134255Z
LAST-MODIFIED:20251222T134255Z
UID:7867-1772965800-1772971200@broadwayurc-worcs.org.uk
SUMMARY:Sunday Service - TBC
DESCRIPTION:
URL:https://broadwayurc-worcs.org.uk/event/sunday-service-tbc-3/
LOCATION:Broadway URC\, 77 High Street\, Broadway\, WR12 7AL\, United Kingdom
CATEGORIES:Sunday Service
END:VEVENT
BEGIN:VEVENT
DTSTART;TZID=Europe/London:20260305T140000
DTEND;TZID=Europe/London:20260305T160000
DTSTAMP:20260419T133059
CREATED:20251222T131508Z
LAST-MODIFIED:20251222T131508Z
UID:7836-1772719200-1772726400@broadwayurc-worcs.org.uk
SUMMARY:Today's Our Day
DESCRIPTION:Fun\, games and crafts for folk living with dementia and other conditions. Friends\, family\, and carers can stay with them\, or relax next door with a coffee chatting to folk with similar experience.
URL:https://broadwayurc-worcs.org.uk/event/todays-our-day-127/
LOCATION:Jubilee Room & URC Hall
CATEGORIES:General
END:VEVENT
BEGIN:VEVENT
DTSTART;TZID=Europe/London:20260305T103000
DTEND;TZID=Europe/London:20260305T113000
DTSTAMP:20260419T133059
CREATED:20251222T130853Z
LAST-MODIFIED:20251222T130853Z
UID:7810-1772706600-1772710200@broadwayurc-worcs.org.uk
SUMMARY:Look After Yourself
DESCRIPTION:Gentle exercise seated or standing to improve your mobility\, balance\, and strength in a fun way. All in a friendly and relaxed environment. Every Thursday 10.30 to 11.30 am. In the Church Hall\, stay on for tea\, coffee\, and chat afterwards if you like.  CONTINUE READING ...
URL:https://broadwayurc-worcs.org.uk/event/look-after-yourself-124/
LOCATION:BURC Hall\, 77\, High Street\, Broadway\, WR12 7AL\, United Kingdom
CATEGORIES:General
END:VEVENT
BEGIN:VEVENT
DTSTART;TZID=Europe/London:20260303T140000
DTEND;TZID=Europe/London:20260303T160000
DTSTAMP:20260419T133059
CREATED:20251222T124948Z
LAST-MODIFIED:20251222T124948Z
UID:7758-1772546400-1772553600@broadwayurc-worcs.org.uk
SUMMARY:Boardom Busters
DESCRIPTION:Boardom Busters – enjoy a warm welcome\, games\, cake\, coffee \nFirst Tuesday of every month\, 2-4pm : in Broadway URC Hall. WR12 7AL \nChoose the games you’d like to play or just pop in for a cofee and cake. \nCome along for the whole session or stay as long as you can.  CONTINUE READING ...
URL:https://broadwayurc-worcs.org.uk/event/boardom-busters-31/
LOCATION:BURC Hall\, 77\, High Street\, Broadway\, WR12 7AL\, United Kingdom
CATEGORIES:General
END:VEVENT
BEGIN:VEVENT
DTSTART;TZID=Europe/London:20260301T103000
DTEND;TZID=Europe/London:20260301T120000
DTSTAMP:20260419T133059
CREATED:20251222T134233Z
LAST-MODIFIED:20251222T134233Z
UID:7865-1772361000-1772366400@broadwayurc-worcs.org.uk
SUMMARY:Sunday Service - TBC
DESCRIPTION:
URL:https://broadwayurc-worcs.org.uk/event/sunday-service-tbc-2/
LOCATION:Broadway URC\, 77 High Street\, Broadway\, WR12 7AL\, United Kingdom
CATEGORIES:Sunday Service
END:VEVENT
BEGIN:VEVENT
DTSTART;TZID=Europe/London:20260226T140000
DTEND;TZID=Europe/London:20260226T160000
DTSTAMP:20260419T133059
CREATED:20251222T131442Z
LAST-MODIFIED:20251222T131442Z
UID:7834-1772114400-1772121600@broadwayurc-worcs.org.uk
SUMMARY:Today's Our Day
DESCRIPTION:Fun\, games and crafts for folk living with dementia and other conditions. Friends\, family\, and carers can stay with them\, or relax next door with a coffee chatting to folk with similar experience.
URL:https://broadwayurc-worcs.org.uk/event/todays-our-day-126/
LOCATION:Jubilee Room & URC Hall
CATEGORIES:General
END:VEVENT
BEGIN:VEVENT
DTSTART;TZID=Europe/London:20260226T103000
DTEND;TZID=Europe/London:20260226T113000
DTSTAMP:20260419T133059
CREATED:20251222T130824Z
LAST-MODIFIED:20251222T130824Z
UID:7808-1772101800-1772105400@broadwayurc-worcs.org.uk
SUMMARY:Look After Yourself
DESCRIPTION:Gentle exercise seated or standing to improve your mobility\, balance\, and strength in a fun way. All in a friendly and relaxed environment. Every Thursday 10.30 to 11.30 am. In the Church Hall\, stay on for tea\, coffee\, and chat afterwards if you like.  CONTINUE READING ...
URL:https://broadwayurc-worcs.org.uk/event/look-after-yourself-123/
LOCATION:BURC Hall\, 77\, High Street\, Broadway\, WR12 7AL\, United Kingdom
CATEGORIES:General
END:VEVENT
BEGIN:VEVENT
DTSTART;TZID=Europe/London:20260222T103000
DTEND;TZID=Europe/London:20260222T120000
DTSTAMP:20260419T133059
CREATED:20251222T134200Z
LAST-MODIFIED:20251222T134200Z
UID:7863-1771756200-1771761600@broadwayurc-worcs.org.uk
SUMMARY:Sunday Service with Michael Watts - Methodists
DESCRIPTION:
URL:https://broadwayurc-worcs.org.uk/event/sunday-service-with-michael-watts-methodists/
LOCATION:Broadway URC\, 77 High Street\, Broadway\, WR12 7AL\, United Kingdom
CATEGORIES:Sunday Service
END:VEVENT
END:VCALENDAR