BEGIN:VCALENDAR
VERSION:2.0
PRODID:-//BROADWAY UNITED REFORMED CHURCH - ECPv6.15.18//NONSGML v1.0//EN
CALSCALE:GREGORIAN
METHOD:PUBLISH
X-ORIGINAL-URL:https://broadwayurc-worcs.org.uk
X-WR-CALDESC:Events for BROADWAY UNITED REFORMED CHURCH
REFRESH-INTERVAL;VALUE=DURATION:PT1H
X-Robots-Tag:noindex
X-PUBLISHED-TTL:PT1H
BEGIN:VTIMEZONE
TZID:Europe/London
BEGIN:DAYLIGHT
TZOFFSETFROM:+0000
TZOFFSETTO:+0100
TZNAME:BST
DTSTART:20250330T010000
END:DAYLIGHT
BEGIN:STANDARD
TZOFFSETFROM:+0100
TZOFFSETTO:+0000
TZNAME:GMT
DTSTART:20251026T010000
END:STANDARD
BEGIN:DAYLIGHT
TZOFFSETFROM:+0000
TZOFFSETTO:+0100
TZNAME:BST
DTSTART:20260329T010000
END:DAYLIGHT
BEGIN:STANDARD
TZOFFSETFROM:+0100
TZOFFSETTO:+0000
TZNAME:GMT
DTSTART:20261025T010000
END:STANDARD
BEGIN:DAYLIGHT
TZOFFSETFROM:+0000
TZOFFSETTO:+0100
TZNAME:BST
DTSTART:20270328T010000
END:DAYLIGHT
BEGIN:STANDARD
TZOFFSETFROM:+0100
TZOFFSETTO:+0000
TZNAME:GMT
DTSTART:20271031T010000
END:STANDARD
END:VTIMEZONE
BEGIN:VEVENT
DTSTART;TZID=Europe/London:20260705T103000
DTEND;TZID=Europe/London:20260705T120000
DTSTAMP:20260420T051621
CREATED:20260402T175155Z
LAST-MODIFIED:20260402T175155Z
UID:7978-1783247400-1783252800@broadwayurc-worcs.org.uk
SUMMARY:Sunday Service led by Su Bailey
DESCRIPTION:
URL:https://broadwayurc-worcs.org.uk/event/sunday-service-led-by-su-bailey/
LOCATION:Broadway URC\, 77 High Street\, Broadway\, WR12 7AL\, United Kingdom
CATEGORIES:Sunday Service
END:VEVENT
BEGIN:VEVENT
DTSTART;TZID=Europe/London:20260707T140000
DTEND;TZID=Europe/London:20260707T160000
DTSTAMP:20260420T051621
CREATED:20251222T125158Z
LAST-MODIFIED:20251222T125158Z
UID:7766-1783432800-1783440000@broadwayurc-worcs.org.uk
SUMMARY:Boardom Busters
DESCRIPTION:Boardom Busters – enjoy a warm welcome\, games\, cake\, coffee \nFirst Tuesday of every month\, 2-4pm : in Broadway URC Hall. WR12 7AL \nChoose the games you’d like to play or just pop in for a cofee and cake. \nCome along for the whole session or stay as long as you can.  CONTINUE READING ...
URL:https://broadwayurc-worcs.org.uk/event/boardom-busters-35/
LOCATION:BURC Hall\, 77\, High Street\, Broadway\, WR12 7AL\, United Kingdom
CATEGORIES:General
END:VEVENT
BEGIN:VEVENT
DTSTART;TZID=Europe/London:20260709T103000
DTEND;TZID=Europe/London:20260709T113000
DTSTAMP:20260420T051621
CREATED:20260402T182534Z
LAST-MODIFIED:20260402T182534Z
UID:8046-1783593000-1783596600@broadwayurc-worcs.org.uk
SUMMARY:Look After Yourself
DESCRIPTION:Gentle exercise seated or standing to improve your mobility\, balance\, and strength in a fun way. All in a friendly and relaxed environment. Every Thursday 10.30 to 11.30 am. In the Church Hall\, stay on for tea\, coffee\, and chat afterwards if you like.  CONTINUE READING ...
URL:https://broadwayurc-worcs.org.uk/event/look-after-yourself-142/
LOCATION:BURC Hall\, 77\, High Street\, Broadway\, WR12 7AL\, United Kingdom
CATEGORIES:General
END:VEVENT
BEGIN:VEVENT
DTSTART;TZID=Europe/London:20260709T140000
DTEND;TZID=Europe/London:20260709T160000
DTSTAMP:20260420T051621
CREATED:20260402T182254Z
LAST-MODIFIED:20260402T182254Z
UID:8038-1783605600-1783612800@broadwayurc-worcs.org.uk
SUMMARY:Today's Our Day
DESCRIPTION:Fun\, games and crafts for folk living with dementia and other conditions. Friends\, family\, and carers can stay with them\, or relax next door with a coffee chatting to folk with similar experience.
URL:https://broadwayurc-worcs.org.uk/event/todays-our-day-145/
LOCATION:Jubilee Room & URC Hall
CATEGORIES:General
END:VEVENT
BEGIN:VEVENT
DTSTART;TZID=Europe/London:20260712T103000
DTEND;TZID=Europe/London:20260712T120000
DTSTAMP:20260420T051621
CREATED:20260402T175246Z
LAST-MODIFIED:20260402T175246Z
UID:7980-1783852200-1783857600@broadwayurc-worcs.org.uk
SUMMARY:Sunday Service led Revd Kathryn Louch
DESCRIPTION:
URL:https://broadwayurc-worcs.org.uk/event/sunday-service-led-revd-kathryn-louch/
LOCATION:Broadway URC\, 77 High Street\, Broadway\, WR12 7AL\, United Kingdom
CATEGORIES:Sunday Service
END:VEVENT
BEGIN:VEVENT
DTSTART;TZID=Europe/London:20260715T140000
DTEND;TZID=Europe/London:20260715T160000
DTSTAMP:20260420T051621
CREATED:20251222T125810Z
LAST-MODIFIED:20251222T125810Z
UID:7786-1784124000-1784131200@broadwayurc-worcs.org.uk
SUMMARY:Threads
DESCRIPTION:Our Threads group meets on the third Wednesday of each month\, from 2 until 4 pm. We knit\, crochet and chat in an atmosphere of Christian fellowship. Some of us work on our own projects\, but we also share in making things for others. Squares are stitched together to make blankets\, some for adults\, some for children and babies. Teddy bears are knitted for ‘the Baby Bear project’\, to bring cheer to bewildered little ones\, some are refugees fleeing from war\, others experiencing different sorts of trauma. Twiddle mittens help dementia patients to remain calm\, giving them something to do with restless hands. All are welcome to join us and increase your feeling of all-round wellness in the Jubilee Room.  CONTINUE READING ...
URL:https://broadwayurc-worcs.org.uk/event/threads-19/
LOCATION:Jubilee Room\, 77\, High Street\, Broadway\, WR12 7AL\, United Kingdom
CATEGORIES:General
END:VEVENT
BEGIN:VEVENT
DTSTART;TZID=Europe/London:20260716T103000
DTEND;TZID=Europe/London:20260716T113000
DTSTAMP:20260420T051621
CREATED:20260402T182603Z
LAST-MODIFIED:20260402T182810Z
UID:8048-1784197800-1784201400@broadwayurc-worcs.org.uk
SUMMARY:Look After Yourself
DESCRIPTION:Gentle exercise seated or standing to improve your mobility\, balance\, and strength in a fun way. All in a friendly and relaxed environment. Every Thursday 10.30 to 11.30 am. In the Church Hall\, stay on for tea\, coffee\, and chat afterwards if you like.  CONTINUE READING ...
URL:https://broadwayurc-worcs.org.uk/event/look-after-yourself-143/
LOCATION:BURC Hall\, 77\, High Street\, Broadway\, WR12 7AL\, United Kingdom
CATEGORIES:General
END:VEVENT
BEGIN:VEVENT
DTSTART;TZID=Europe/London:20260716T140000
DTEND;TZID=Europe/London:20260716T160000
DTSTAMP:20260420T051621
CREATED:20260402T182318Z
LAST-MODIFIED:20260402T182318Z
UID:8040-1784210400-1784217600@broadwayurc-worcs.org.uk
SUMMARY:Today's Our Day
DESCRIPTION:Fun\, games and crafts for folk living with dementia and other conditions. Friends\, family\, and carers can stay with them\, or relax next door with a coffee chatting to folk with similar experience.
URL:https://broadwayurc-worcs.org.uk/event/todays-our-day-146/
LOCATION:Jubilee Room & URC Hall
CATEGORIES:General
END:VEVENT
BEGIN:VEVENT
DTSTART;TZID=Europe/London:20260719T103000
DTEND;TZID=Europe/London:20260719T120000
DTSTAMP:20260420T051621
CREATED:20260402T175345Z
LAST-MODIFIED:20260402T175345Z
UID:7982-1784457000-1784462400@broadwayurc-worcs.org.uk
SUMMARY:Sunday Service led by Revd Iain McLaren
DESCRIPTION:
URL:https://broadwayurc-worcs.org.uk/event/sunday-service-led-by-revd-iain-mclaren-3/
LOCATION:Broadway URC\, 77 High Street\, Broadway\, WR12 7AL\, United Kingdom
CATEGORIES:Sunday Service
END:VEVENT
BEGIN:VEVENT
DTSTART;TZID=Europe/London:20260723T103000
DTEND;TZID=Europe/London:20260723T113000
DTSTAMP:20260420T051621
CREATED:20260402T182642Z
LAST-MODIFIED:20260402T182824Z
UID:8050-1784802600-1784806200@broadwayurc-worcs.org.uk
SUMMARY:Look After Yourself
DESCRIPTION:Gentle exercise seated or standing to improve your mobility\, balance\, and strength in a fun way. All in a friendly and relaxed environment. Every Thursday 10.30 to 11.30 am. In the Church Hall\, stay on for tea\, coffee\, and chat afterwards if you like.  CONTINUE READING ...
URL:https://broadwayurc-worcs.org.uk/event/look-after-yourself-144/
LOCATION:BURC Hall\, 77\, High Street\, Broadway\, WR12 7AL\, United Kingdom
CATEGORIES:General
END:VEVENT
BEGIN:VEVENT
DTSTART;TZID=Europe/London:20260723T140000
DTEND;TZID=Europe/London:20260723T160000
DTSTAMP:20260420T051621
CREATED:20260402T182359Z
LAST-MODIFIED:20260402T182359Z
UID:8042-1784815200-1784822400@broadwayurc-worcs.org.uk
SUMMARY:Today's Our Day
DESCRIPTION:Fun\, games and crafts for folk living with dementia and other conditions. Friends\, family\, and carers can stay with them\, or relax next door with a coffee chatting to folk with similar experience.
URL:https://broadwayurc-worcs.org.uk/event/todays-our-day-147/
LOCATION:Jubilee Room & URC Hall
CATEGORIES:General
END:VEVENT
BEGIN:VEVENT
DTSTART;TZID=Europe/London:20260726T103000
DTEND;TZID=Europe/London:20260726T120000
DTSTAMP:20260420T051621
CREATED:20260402T175525Z
LAST-MODIFIED:20260402T175525Z
UID:7984-1785061800-1785067200@broadwayurc-worcs.org.uk
SUMMARY:Sunday Service led by Methodists - Holy Communion
DESCRIPTION:
URL:https://broadwayurc-worcs.org.uk/event/sunday-service-led-by-methodists-holy-communion/
LOCATION:Broadway URC\, 77 High Street\, Broadway\, WR12 7AL\, United Kingdom
CATEGORIES:Sunday Service
END:VEVENT
BEGIN:VEVENT
DTSTART;TZID=Europe/London:20260730T103000
DTEND;TZID=Europe/London:20260730T113000
DTSTAMP:20260420T051621
CREATED:20260402T182707Z
LAST-MODIFIED:20260402T182707Z
UID:8052-1785407400-1785411000@broadwayurc-worcs.org.uk
SUMMARY:Look After Yourself
DESCRIPTION:Gentle exercise seated or standing to improve your mobility\, balance\, and strength in a fun way. All in a friendly and relaxed environment. Every Thursday 10.30 to 11.30 am. In the Church Hall\, stay on for tea\, coffee\, and chat afterwards if you like.  CONTINUE READING ...
URL:https://broadwayurc-worcs.org.uk/event/look-after-yourself-145/
LOCATION:BURC Hall\, 77\, High Street\, Broadway\, WR12 7AL\, United Kingdom
CATEGORIES:General
END:VEVENT
BEGIN:VEVENT
DTSTART;TZID=Europe/London:20260730T140000
DTEND;TZID=Europe/London:20260730T160000
DTSTAMP:20260420T051621
CREATED:20260402T182425Z
LAST-MODIFIED:20260402T182425Z
UID:8044-1785420000-1785427200@broadwayurc-worcs.org.uk
SUMMARY:Today's Our Day
DESCRIPTION:Fun\, games and crafts for folk living with dementia and other conditions. Friends\, family\, and carers can stay with them\, or relax next door with a coffee chatting to folk with similar experience.
URL:https://broadwayurc-worcs.org.uk/event/todays-our-day-148/
LOCATION:Jubilee Room & URC Hall
CATEGORIES:General
END:VEVENT
BEGIN:VEVENT
DTSTART;TZID=Europe/London:20260804T140000
DTEND;TZID=Europe/London:20260804T160000
DTSTAMP:20260420T051621
CREATED:20251222T125226Z
LAST-MODIFIED:20251222T125226Z
UID:7768-1785852000-1785859200@broadwayurc-worcs.org.uk
SUMMARY:Boardom Busters
DESCRIPTION:Boardom Busters – enjoy a warm welcome\, games\, cake\, coffee \nFirst Tuesday of every month\, 2-4pm : in Broadway URC Hall. WR12 7AL \nChoose the games you’d like to play or just pop in for a cofee and cake. \nCome along for the whole session or stay as long as you can.  CONTINUE READING ...
URL:https://broadwayurc-worcs.org.uk/event/boardom-busters-36/
LOCATION:BURC Hall\, 77\, High Street\, Broadway\, WR12 7AL\, United Kingdom
CATEGORIES:General
END:VEVENT
BEGIN:VEVENT
DTSTART;TZID=Europe/London:20260819T140000
DTEND;TZID=Europe/London:20260819T160000
DTSTAMP:20260420T051621
CREATED:20251222T125838Z
LAST-MODIFIED:20251222T125838Z
UID:7788-1787148000-1787155200@broadwayurc-worcs.org.uk
SUMMARY:Threads
DESCRIPTION:Our Threads group meets on the third Wednesday of each month\, from 2 until 4 pm. We knit\, crochet and chat in an atmosphere of Christian fellowship. Some of us work on our own projects\, but we also share in making things for others. Squares are stitched together to make blankets\, some for adults\, some for children and babies. Teddy bears are knitted for ‘the Baby Bear project’\, to bring cheer to bewildered little ones\, some are refugees fleeing from war\, others experiencing different sorts of trauma. Twiddle mittens help dementia patients to remain calm\, giving them something to do with restless hands. All are welcome to join us and increase your feeling of all-round wellness in the Jubilee Room.  CONTINUE READING ...
URL:https://broadwayurc-worcs.org.uk/event/threads-20/
LOCATION:Jubilee Room\, 77\, High Street\, Broadway\, WR12 7AL\, United Kingdom
CATEGORIES:General
END:VEVENT
BEGIN:VEVENT
DTSTART;TZID=Europe/London:20260901T140000
DTEND;TZID=Europe/London:20260901T160000
DTSTAMP:20260420T051621
CREATED:20251222T125257Z
LAST-MODIFIED:20251222T125257Z
UID:7770-1788271200-1788278400@broadwayurc-worcs.org.uk
SUMMARY:Boardom Busters
DESCRIPTION:Boardom Busters – enjoy a warm welcome\, games\, cake\, coffee \nFirst Tuesday of every month\, 2-4pm : in Broadway URC Hall. WR12 7AL \nChoose the games you’d like to play or just pop in for a cofee and cake. \nCome along for the whole session or stay as long as you can.  CONTINUE READING ...
URL:https://broadwayurc-worcs.org.uk/event/boardom-busters-37/
LOCATION:BURC Hall\, 77\, High Street\, Broadway\, WR12 7AL\, United Kingdom
CATEGORIES:General
END:VEVENT
BEGIN:VEVENT
DTSTART;TZID=Europe/London:20260916T140000
DTEND;TZID=Europe/London:20260916T160000
DTSTAMP:20260420T051621
CREATED:20251222T125907Z
LAST-MODIFIED:20251222T125907Z
UID:7790-1789567200-1789574400@broadwayurc-worcs.org.uk
SUMMARY:Threads
DESCRIPTION:Our Threads group meets on the third Wednesday of each month\, from 2 until 4 pm. We knit\, crochet and chat in an atmosphere of Christian fellowship. Some of us work on our own projects\, but we also share in making things for others. Squares are stitched together to make blankets\, some for adults\, some for children and babies. Teddy bears are knitted for ‘the Baby Bear project’\, to bring cheer to bewildered little ones\, some are refugees fleeing from war\, others experiencing different sorts of trauma. Twiddle mittens help dementia patients to remain calm\, giving them something to do with restless hands. All are welcome to join us and increase your feeling of all-round wellness in the Jubilee Room.  CONTINUE READING ...
URL:https://broadwayurc-worcs.org.uk/event/threads-21/
LOCATION:Jubilee Room\, 77\, High Street\, Broadway\, WR12 7AL\, United Kingdom
CATEGORIES:General
END:VEVENT
BEGIN:VEVENT
DTSTART;TZID=Europe/London:20261006T140000
DTEND;TZID=Europe/London:20261006T160000
DTSTAMP:20260420T051621
CREATED:20251222T125325Z
LAST-MODIFIED:20251222T125325Z
UID:7772-1791295200-1791302400@broadwayurc-worcs.org.uk
SUMMARY:Boardom Busters
DESCRIPTION:Boardom Busters – enjoy a warm welcome\, games\, cake\, coffee \nFirst Tuesday of every month\, 2-4pm : in Broadway URC Hall. WR12 7AL \nChoose the games you’d like to play or just pop in for a cofee and cake. \nCome along for the whole session or stay as long as you can.  CONTINUE READING ...
URL:https://broadwayurc-worcs.org.uk/event/boardom-busters-38/
LOCATION:BURC Hall\, 77\, High Street\, Broadway\, WR12 7AL\, United Kingdom
CATEGORIES:General
END:VEVENT
BEGIN:VEVENT
DTSTART;TZID=Europe/London:20261021T140000
DTEND;TZID=Europe/London:20261021T160000
DTSTAMP:20260420T051621
CREATED:20251222T125938Z
LAST-MODIFIED:20251222T125938Z
UID:7792-1792591200-1792598400@broadwayurc-worcs.org.uk
SUMMARY:Threads
DESCRIPTION:Our Threads group meets on the third Wednesday of each month\, from 2 until 4 pm. We knit\, crochet and chat in an atmosphere of Christian fellowship. Some of us work on our own projects\, but we also share in making things for others. Squares are stitched together to make blankets\, some for adults\, some for children and babies. Teddy bears are knitted for ‘the Baby Bear project’\, to bring cheer to bewildered little ones\, some are refugees fleeing from war\, others experiencing different sorts of trauma. Twiddle mittens help dementia patients to remain calm\, giving them something to do with restless hands. All are welcome to join us and increase your feeling of all-round wellness in the Jubilee Room.  CONTINUE READING ...
URL:https://broadwayurc-worcs.org.uk/event/threads-25/
LOCATION:Jubilee Room\, 77\, High Street\, Broadway\, WR12 7AL\, United Kingdom
CATEGORIES:General
END:VEVENT
END:VCALENDAR